BEGIN:VCALENDAR
VERSION:2.0
PRODID:-//Unlocal - ECPv6.15.17//NONSGML v1.0//EN
CALSCALE:GREGORIAN
METHOD:PUBLISH
X-ORIGINAL-URL:https://www.unlocal.org
X-WR-CALDESC:Events for Unlocal
REFRESH-INTERVAL;VALUE=DURATION:PT1H
X-Robots-Tag:noindex
X-PUBLISHED-TTL:PT1H
BEGIN:VTIMEZONE
TZID:America/New_York
BEGIN:DAYLIGHT
TZOFFSETFROM:-0500
TZOFFSETTO:-0400
TZNAME:EDT
DTSTART:20240310T070000
END:DAYLIGHT
BEGIN:STANDARD
TZOFFSETFROM:-0400
TZOFFSETTO:-0500
TZNAME:EST
DTSTART:20241103T060000
END:STANDARD
BEGIN:DAYLIGHT
TZOFFSETFROM:-0500
TZOFFSETTO:-0400
TZNAME:EDT
DTSTART:20250309T070000
END:DAYLIGHT
BEGIN:STANDARD
TZOFFSETFROM:-0400
TZOFFSETTO:-0500
TZNAME:EST
DTSTART:20251102T060000
END:STANDARD
BEGIN:DAYLIGHT
TZOFFSETFROM:-0500
TZOFFSETTO:-0400
TZNAME:EDT
DTSTART:20260308T070000
END:DAYLIGHT
BEGIN:STANDARD
TZOFFSETFROM:-0400
TZOFFSETTO:-0500
TZNAME:EST
DTSTART:20261101T060000
END:STANDARD
BEGIN:DAYLIGHT
TZOFFSETFROM:-0500
TZOFFSETTO:-0400
TZNAME:EDT
DTSTART:20270314T070000
END:DAYLIGHT
BEGIN:STANDARD
TZOFFSETFROM:-0400
TZOFFSETTO:-0500
TZNAME:EST
DTSTART:20271107T060000
END:STANDARD
END:VTIMEZONE
BEGIN:VEVENT
DTSTART;TZID=America/New_York:20251210T170000
DTEND;TZID=America/New_York:20251210T183000
DTSTAMP:20260420T131041
CREATED:20251104T222713Z
LAST-MODIFIED:20251104T223457Z
UID:10000096-1765386000-1765391400@www.unlocal.org
SUMMARY:Community Safety Workshop - ENGLISH
DESCRIPTION:Wednesday November 12th 5:00PM \nJoin our monthly community safety workshops\, where we learn about our rights in regards to interaction with federal law enforcement and immigration agents.  \nThis will also be space to provide community resources and brief general immigration-policy updates! \nZoom Link: bit.ly/unlocal-kyr-english
URL:https://www.unlocal.org/event/community-safety-workshop-english/2025-12-10/
LOCATION:Zoom
CATEGORIES:E+O
ATTACH;FMTTYPE=image/png:https://www.unlocal.org/wp-content/uploads/2025/11/KYR-ENG-2.png
END:VEVENT
BEGIN:VEVENT
DTSTART;TZID=America/New_York:20251216T053000
DTEND;TZID=America/New_York:20251216T053000
DTSTAMP:20260420T131041
CREATED:20251210T185913Z
LAST-MODIFIED:20251210T191735Z
UID:10000165-1765863000-1765863000@www.unlocal.org
SUMMARY:LGBTQ+  FREE Holiday Market
DESCRIPTION:Browse for FREE winter clothes from Out My Closet\, enjoy holiday treats and celebrate the season with Pride! \n 
URL:https://www.unlocal.org/event/8640/
LOCATION:UnLocal\, 45 West 29th Street\, Suite 203\, New York\, NY\, 10001\, United States
CATEGORIES:E+O
ATTACH;FMTTYPE=image/png:https://www.unlocal.org/wp-content/uploads/2025/12/IG-1216-QIJP-Holiday-Market-Flyer.png
END:VEVENT
BEGIN:VEVENT
DTSTART;TZID=America/New_York:20251216T180000
DTEND;TZID=America/New_York:20251216T190000
DTSTAMP:20260420T131041
CREATED:20251210T191555Z
LAST-MODIFIED:20251210T191737Z
UID:10000166-1765908000-1765911600@www.unlocal.org
SUMMARY:Virutal Resume Workshop
DESCRIPTION:Join UnLocal for a Resume Building Workshop designed to help you craft a strong\, personalized resume that highlights your skills and experience. \nGet hands-on guidance and tips to stand out as a business owner or contractor-no prior experience needed!
URL:https://www.unlocal.org/event/virutal-resume-workshop/
LOCATION:Zoom
CATEGORIES:E+O
ATTACH;FMTTYPE=image/jpeg:https://www.unlocal.org/wp-content/uploads/2025/12/1-Isabella-Louis.jpg
END:VEVENT
BEGIN:VEVENT
DTSTART;TZID=America/New_York:20251217T070000
DTEND;TZID=America/New_York:20251217T213000
DTSTAMP:20260420T131041
CREATED:20251126T193518Z
LAST-MODIFIED:20251126T193518Z
UID:10000160-1765954800-1766007000@www.unlocal.org
SUMMARY:Music and Play
DESCRIPTION:In this circle\, we will use our bodies and voices to explore rhythmic\, sound\, and movement-based games that are fun\, healing and collaborative. The focus is on being present and finding joy in the shared experience of creating together\, not on “performing” or getting it “right” \nThis practice supports connection\, grounding\, playfulness\, and nervous-system regulation.You can participate in whatever way feels right for you. \nAll are welcome — No experience needed \nRSVP: bit.ly/unlocal-music
URL:https://www.unlocal.org/event/music-and-play/
CATEGORIES:Social Work
ATTACH;FMTTYPE=image/png:https://www.unlocal.org/wp-content/uploads/2025/11/Trauma-Informed-Yoga-Care-Circle-2.png
END:VEVENT
BEGIN:VEVENT
DTSTART;TZID=America/New_York:20251217T070000
DTEND;TZID=America/New_York:20251217T213000
DTSTAMP:20260420T131041
CREATED:20251126T193755Z
LAST-MODIFIED:20251126T193755Z
UID:10000161-1765954800-1766007000@www.unlocal.org
SUMMARY:Musica y Juego
DESCRIPTION:En este círculo\, usaremos nuestros cuerpos y voces para explorar juegos basados en el ritmo\, el sonido y el movimiento que son divertidos\, sanadores y colaborativos. El enfoque está en la presencia y en encontrar alegría en la experiencia compartida de crear juntos\, no en hacerlo “bien”.  \nEsta práctica contribuye a la conexión\, el gozo\, la levedad\, y la regulación del sistema nervioso. Puedes participar de la manera que se sienta bien. Todes son bienvenides — No se necesita experiencia. \nConfirme Aqui: bit.ly/unlocal-music \n  \n 
URL:https://www.unlocal.org/event/musica-y-juego/
CATEGORIES:Social Work
ATTACH;FMTTYPE=image/png:https://www.unlocal.org/wp-content/uploads/2025/11/Trauma-Informed-Yoga-Care-Circle-2.png
END:VEVENT
BEGIN:VEVENT
DTSTART;TZID=America/New_York:20251217T170000
DTEND;TZID=America/New_York:20251217T183000
DTSTAMP:20260420T131041
CREATED:20251104T223420Z
LAST-MODIFIED:20251104T223420Z
UID:10000099-1765990800-1765996200@www.unlocal.org
SUMMARY:Taller - Proteje a su Comunidad
DESCRIPTION:Únase a nuestros taller informativo mensuales sobre seguridad comunitaria\, donde aprenderemos sobre nuestros derechos en lo que respecta a la interacción con las fuerzas del orden federales y los agentes de inmigración. \n¡Este también será un espacio para proporcionar recursos comunitarios y breves actualizaciones generales sobre la política de inmigración! \nEnlace de Zoom: bit.ly/unlocal-kyr-esp
URL:https://www.unlocal.org/event/taller-proteje-a-su-comunidad/2025-12-17/
LOCATION:Zoom
CATEGORIES:E+O
ATTACH;FMTTYPE=image/png:https://www.unlocal.org/wp-content/uploads/2025/11/KYR-SPAN-1.png
END:VEVENT
BEGIN:VEVENT
DTSTART;TZID=America/New_York:20251224T080000
DTEND;TZID=America/New_York:20260101T170000
DTSTAMP:20260420T131041
CREATED:20251209T235001Z
LAST-MODIFIED:20251209T235242Z
UID:10000162-1766563200-1767286800@www.unlocal.org
SUMMARY:Office Closed
DESCRIPTION:Our office will be closed from December 24th to January 1st for the New Year.
URL:https://www.unlocal.org/event/office-closed-3/
ATTACH;FMTTYPE=image/png:https://www.unlocal.org/wp-content/uploads/2025/12/Office-closed-2025-26.png
END:VEVENT
END:VCALENDAR