BEGIN:VCALENDAR
VERSION:2.0
PRODID:-//Unlocal - ECPv6.15.17//NONSGML v1.0//EN
CALSCALE:GREGORIAN
METHOD:PUBLISH
X-WR-CALNAME:Unlocal
X-ORIGINAL-URL:https://www.unlocal.org
X-WR-CALDESC:Events for Unlocal
REFRESH-INTERVAL;VALUE=DURATION:PT1H
X-Robots-Tag:noindex
X-PUBLISHED-TTL:PT1H
BEGIN:VTIMEZONE
TZID:America/New_York
BEGIN:DAYLIGHT
TZOFFSETFROM:-0500
TZOFFSETTO:-0400
TZNAME:EDT
DTSTART:20230312T070000
END:DAYLIGHT
BEGIN:STANDARD
TZOFFSETFROM:-0400
TZOFFSETTO:-0500
TZNAME:EST
DTSTART:20231105T060000
END:STANDARD
BEGIN:DAYLIGHT
TZOFFSETFROM:-0500
TZOFFSETTO:-0400
TZNAME:EDT
DTSTART:20240310T070000
END:DAYLIGHT
BEGIN:STANDARD
TZOFFSETFROM:-0400
TZOFFSETTO:-0500
TZNAME:EST
DTSTART:20241103T060000
END:STANDARD
BEGIN:DAYLIGHT
TZOFFSETFROM:-0500
TZOFFSETTO:-0400
TZNAME:EDT
DTSTART:20250309T070000
END:DAYLIGHT
BEGIN:STANDARD
TZOFFSETFROM:-0400
TZOFFSETTO:-0500
TZNAME:EST
DTSTART:20251102T060000
END:STANDARD
END:VTIMEZONE
BEGIN:VEVENT
DTSTART;TZID=America/New_York:20241113T173000
DTEND;TZID=America/New_York:20241113T203000
DTSTAMP:20260421T062045
CREATED:20241114T221530Z
LAST-MODIFIED:20241114T221633Z
UID:10000082-1731519000-1731529800@www.unlocal.org
SUMMARY:Voices of Real New Yorkers
DESCRIPTION:
URL:https://www.unlocal.org/event/voices-of-real-new-yorkers/
LOCATION:218 W 37th ST\, New York
ATTACH;FMTTYPE=image/png:https://www.unlocal.org/wp-content/uploads/2024/11/Screenshot-2024-11-14-at-5.10.49-PM.png
END:VEVENT
BEGIN:VEVENT
DTSTART;TZID=America/New_York:20241114T160000
DTEND;TZID=America/New_York:20241114T190000
DTSTAMP:20260421T062045
CREATED:20241114T221847Z
LAST-MODIFIED:20241114T221847Z
UID:10000083-1731600000-1731610800@www.unlocal.org
SUMMARY:Resume Review Workshop
DESCRIPTION:
URL:https://www.unlocal.org/event/resume-review-workshop/
LOCATION:UnLocal\, 45 West 29th Street\, Suite 203\, New York\, NY\, 10001\, United States
CATEGORIES:E+O
ATTACH;FMTTYPE=image/png:https://www.unlocal.org/wp-content/uploads/2024/11/Screenshot-2024-11-14-at-5.10.09-PM.png
END:VEVENT
BEGIN:VEVENT
DTSTART;TZID=America/New_York:20241120T180000
DTEND;TZID=America/New_York:20241120T200000
DTSTAMP:20260421T062045
CREATED:20240924T204546Z
LAST-MODIFIED:20241115T211256Z
UID:10000080-1732125600-1732132800@www.unlocal.org
SUMMARY:De Naris a Nariz
DESCRIPTION:    \nDe Nariz a Nariz \nEsta serie de cuatro sesiones brindará un foro para que el grupo se reúna\, juegue\, se conecte y al honrar la nariz\, se reconecte con sus cuerpos como fuente de sabiduría\, risa\, reflexión y expresión. \nTodas las sesiones serán en inglés y español\, aprenderemos en un entorno multilingüe. \nCelebremos y adoremos todos los golpes\, giros y vueltas de nuestras narices en un entorno grupal pequeño y solidario. \nBy Word of Nose:  \n\nA sewing workshop that aims to bring people together to imagine the nose as a tool for empowerment and connection through narrative making and play. \nParticipants will learn hand sewing techniques to create their own fabric noses. \nNo sewing experience is necessary! \nThis four session series will provide a forum for the group to gather\, play\, connect and – in honoring the nose – reconnect with their bodies as a source of wisdom\, laughter\, reflection and expression.\nAll sessions will be in English and Spanish\, we will learn in a multilingual environment.\nLet’s celebrate and honor all the bumps\, twists\, and turns of our noses in a small supportive group setting.\n\nWorkshops are free. Materials are included.  \nTodos los talleres incluyen materiales y son gratuitos.  \nSign-up/Para inscribirse: \nPor favor comuniquense con Eva a través de correo electrónico o WhatsApp:\neva@unlocal.org  \nWorkshop Artist Educator: Kat Geng-Caraballo is a New York City based  visual artist creating sculptures\, videos and community engaged projects to challenge and reclaim narratives\, frequently ones around identity. Her work has been shown at noted arts institutions like The Bronx Museum of the Arts and BRIC Media Arts as well as in curated forests and the streets of Brooklyn. Her latest project “By Word of Nose” is an homage to our most prominent feature – the nose – and all the insights it can offer us about ourselves.  \nMaestra y artista del taller: Kat Geng-Caraballo es una artista visual radicada en la ciudad de Nueva York que crea esculturas\, videos y proyectos comprometidos en comunidad para desafiar y reclamar narrativas\, frecuentemente relacionadas con la identidad. Su trabajo se ha mostrado en destacadas instituciones artísticas como el Museo de las Artes del Bronx y BRIC Media Arts\, así como en bosques seleccionados y las calles de Brooklyn. Su último proyecto\, “By Word of Nose”\, es un homenaje a nuestra característica más destacada\, la nariz\, y a todos los conocimientos que esta puede ofrecernos sobre nosotros mismos. \nThis project is made possible in part with funds from Creative Engagement\, a regrant program supported by The New York State Council on the Arts with the support of the office of the Governor and the New York State Legislature and administered by LMCC. \nLMCC serves\, connects\, and makes space for artists and community. \n  \n \n. \n \n 
URL:https://www.unlocal.org/event/de-naris-a-nariz/2024-11-20/
LOCATION:UnLocal\, 45 West 29th Street\, Suite 203\, New York\, NY\, 10001\, United States
CATEGORIES:E+O
ATTACH;FMTTYPE=image/png:https://www.unlocal.org/wp-content/uploads/2024/09/1-1.png
END:VEVENT
BEGIN:VEVENT
DTSTART;VALUE=DATE:20241128
DTEND;VALUE=DATE:20241129
DTSTAMP:20260421T062045
CREATED:20241126T230052Z
LAST-MODIFIED:20241126T230935Z
UID:10000085-1732752000-1732838399@www.unlocal.org
SUMMARY:Closed
DESCRIPTION:
URL:https://www.unlocal.org/event/closed-3/
ATTACH;FMTTYPE=image/png:https://www.unlocal.org/wp-content/uploads/2024/11/Office-Closed-Sign-2.png
END:VEVENT
BEGIN:VEVENT
DTSTART;VALUE=DATE:20241129
DTEND;VALUE=DATE:20241130
DTSTAMP:20260421T062045
CREATED:20241126T230650Z
LAST-MODIFIED:20241126T230650Z
UID:10000086-1732838400-1732924799@www.unlocal.org
SUMMARY:Closed
DESCRIPTION:
URL:https://www.unlocal.org/event/closed-4/
ATTACH;FMTTYPE=image/png:https://www.unlocal.org/wp-content/uploads/2024/11/Office-Closed-Sign-2.png
END:VEVENT
END:VCALENDAR