BEGIN:VCALENDAR
VERSION:2.0
PRODID:-//Unlocal - ECPv6.15.17//NONSGML v1.0//EN
CALSCALE:GREGORIAN
METHOD:PUBLISH
X-ORIGINAL-URL:https://www.unlocal.org
X-WR-CALDESC:Events for Unlocal
REFRESH-INTERVAL;VALUE=DURATION:PT1H
X-Robots-Tag:noindex
X-PUBLISHED-TTL:PT1H
BEGIN:VTIMEZONE
TZID:America/New_York
BEGIN:DAYLIGHT
TZOFFSETFROM:-0500
TZOFFSETTO:-0400
TZNAME:EDT
DTSTART:20230312T070000
END:DAYLIGHT
BEGIN:STANDARD
TZOFFSETFROM:-0400
TZOFFSETTO:-0500
TZNAME:EST
DTSTART:20231105T060000
END:STANDARD
BEGIN:DAYLIGHT
TZOFFSETFROM:-0500
TZOFFSETTO:-0400
TZNAME:EDT
DTSTART:20240310T070000
END:DAYLIGHT
BEGIN:STANDARD
TZOFFSETFROM:-0400
TZOFFSETTO:-0500
TZNAME:EST
DTSTART:20241103T060000
END:STANDARD
BEGIN:DAYLIGHT
TZOFFSETFROM:-0500
TZOFFSETTO:-0400
TZNAME:EDT
DTSTART:20250309T070000
END:DAYLIGHT
BEGIN:STANDARD
TZOFFSETFROM:-0400
TZOFFSETTO:-0500
TZNAME:EST
DTSTART:20251102T060000
END:STANDARD
END:VTIMEZONE
BEGIN:VEVENT
DTSTART;TZID=America/New_York:20240708T093000
DTEND;TZID=America/New_York:20240708T110000
DTSTAMP:20260421T120432
CREATED:20240626T174731Z
LAST-MODIFIED:20240703T164618Z
UID:10000061-1720431000-1720436400@www.unlocal.org
SUMMARY:Community Closet /Armario comunitario de UnLocal
DESCRIPTION:El Armario Comunitario de UnLocal estará abierto durante intervalos de tiempo para 15 minutos. Registrate para confirmar una cita. Todos son bienvenidos a llevar ropa para ellos y sus familias. \nEsto no es un consulta legal. \nUnLocal’s Community Closet will be open for 15 minute time slots. Please sign up below to confirm a spot. All are welcomed to take clothes for themselves and their families. This is not a legal consultation. \nLe placard communautaire UnLocal sera ouvert pendant des plages horaires de 15 minutes. Inscrivez-vous pour confirmer un rendez-vous. Tout le monde est invité à apporter des vêtements pour lui-même et sa famille. \nIl ne s’agit pas d’une consultation juridique.
URL:https://www.unlocal.org/event/community-closet-armario-comunitario-de-unlocal/2024-07-08/
ATTACH;FMTTYPE=image/png:https://www.unlocal.org/wp-content/uploads/2024/06/Spanish-1.png
END:VEVENT
BEGIN:VEVENT
DTSTART;TZID=America/New_York:20240709T100000
DTEND;TZID=America/New_York:20240709T140000
DTSTAMP:20260421T120432
CREATED:20240626T164722Z
LAST-MODIFIED:20240722T214150Z
UID:10000056-1720519200-1720533600@www.unlocal.org
SUMMARY:Book Drive Drop Off
DESCRIPTION:SPONSOR A BOOK BECOME A BOOK FAIRY 📚✨🧚 \nOur FREE community closet is expanding to include multilingual books. We have partnered up with local bookstores to curate a list books our community members would appreciate – visit our WISHLIST \n \n 
URL:https://www.unlocal.org/event/book-drive-drop-off/2024-07-09/
LOCATION:UnLocal\, 45 West 29th Street\, Suite 203\, New York\, NY\, 10001\, United States
CATEGORIES:E+O
ATTACH;FMTTYPE=image/png:https://www.unlocal.org/wp-content/uploads/2024/06/11.png
END:VEVENT
BEGIN:VEVENT
DTSTART;TZID=America/New_York:20240709T170000
DTEND;TZID=America/New_York:20240709T190000
DTSTAMP:20260421T120432
CREATED:20240623T203956Z
LAST-MODIFIED:20240723T174422Z
UID:10000010-1720544400-1720551600@www.unlocal.org
SUMMARY:Drop-in Printmaking with Mobile Print Power
DESCRIPTION:Join multigenerational printmaking collective Mobile Print Power (MPP) for a drop-in silkscreen printing workshop at UnLocal. Participants will learn about creating socially engaged art and participatory design through printmaking\, and will make a screenprint to take home. \nThis workshop is open to all ages. Seating is available on a first-come\, first-served basis. \nTranslators in Spanish and French will be present.  \nMobile Print Power is a multigenerational collective that started as a weekly printmaking and political education workshop in Corona\, Queens\, in 2013. Mobile Print Power uses their methodology for participatory design in public space and a pair of portable silkscreen printmaking carts to engage communities and explore social and cultural situations. Mobile Print Power co-creates books\, prints\, and public sculptures with their communities. Each project reflects their commitment to social change and belief in the value of shared artistic production. \n 
URL:https://www.unlocal.org/event/drop-in-printmaking-with-mobile-print-power/2024-07-09/
LOCATION:UnLocal\, 45 West 29th Street\, Suite 203\, New York\, NY\, 10001\, United States
CATEGORIES:E+O
ATTACH;FMTTYPE=image/jpeg:https://www.unlocal.org/wp-content/uploads/2024/06/IMG_8831-scaled.jpg
END:VEVENT
BEGIN:VEVENT
DTSTART;TZID=America/New_York:20240716T100000
DTEND;TZID=America/New_York:20240716T140000
DTSTAMP:20260421T120432
CREATED:20240626T164722Z
LAST-MODIFIED:20240722T214150Z
UID:10000057-1721124000-1721138400@www.unlocal.org
SUMMARY:Book Drive Drop Off
DESCRIPTION:SPONSOR A BOOK BECOME A BOOK FAIRY 📚✨🧚 \nOur FREE community closet is expanding to include multilingual books. We have partnered up with local bookstores to curate a list books our community members would appreciate – visit our WISHLIST \n \n 
URL:https://www.unlocal.org/event/book-drive-drop-off/2024-07-16/
LOCATION:UnLocal\, 45 West 29th Street\, Suite 203\, New York\, NY\, 10001\, United States
CATEGORIES:E+O
ATTACH;FMTTYPE=image/png:https://www.unlocal.org/wp-content/uploads/2024/06/11.png
END:VEVENT
BEGIN:VEVENT
DTSTART;TZID=America/New_York:20240718T100000
DTEND;TZID=America/New_York:20240718T140000
DTSTAMP:20260421T120432
CREATED:20240626T164722Z
LAST-MODIFIED:20240722T214150Z
UID:10000058-1721296800-1721311200@www.unlocal.org
SUMMARY:Book Drive Drop Off
DESCRIPTION:SPONSOR A BOOK BECOME A BOOK FAIRY 📚✨🧚 \nOur FREE community closet is expanding to include multilingual books. We have partnered up with local bookstores to curate a list books our community members would appreciate – visit our WISHLIST \n \n 
URL:https://www.unlocal.org/event/book-drive-drop-off/2024-07-18/
LOCATION:UnLocal\, 45 West 29th Street\, Suite 203\, New York\, NY\, 10001\, United States
CATEGORIES:E+O
ATTACH;FMTTYPE=image/png:https://www.unlocal.org/wp-content/uploads/2024/06/11.png
END:VEVENT
BEGIN:VEVENT
DTSTART;TZID=America/New_York:20240722T093000
DTEND;TZID=America/New_York:20240722T110000
DTSTAMP:20260421T120433
CREATED:20240626T174731Z
LAST-MODIFIED:20240703T164618Z
UID:10000062-1721640600-1721646000@www.unlocal.org
SUMMARY:Community Closet /Armario comunitario de UnLocal
DESCRIPTION:El Armario Comunitario de UnLocal estará abierto durante intervalos de tiempo para 15 minutos. Registrate para confirmar una cita. Todos son bienvenidos a llevar ropa para ellos y sus familias. \nEsto no es un consulta legal. \nUnLocal’s Community Closet will be open for 15 minute time slots. Please sign up below to confirm a spot. All are welcomed to take clothes for themselves and their families. This is not a legal consultation. \nLe placard communautaire UnLocal sera ouvert pendant des plages horaires de 15 minutes. Inscrivez-vous pour confirmer un rendez-vous. Tout le monde est invité à apporter des vêtements pour lui-même et sa famille. \nIl ne s’agit pas d’une consultation juridique.
URL:https://www.unlocal.org/event/community-closet-armario-comunitario-de-unlocal/2024-07-22/
ATTACH;FMTTYPE=image/png:https://www.unlocal.org/wp-content/uploads/2024/06/Spanish-1.png
END:VEVENT
BEGIN:VEVENT
DTSTART;TZID=America/New_York:20240726T100000
DTEND;TZID=America/New_York:20240726T140000
DTSTAMP:20260421T120433
CREATED:20240626T164722Z
LAST-MODIFIED:20240722T214150Z
UID:10000059-1721988000-1722002400@www.unlocal.org
SUMMARY:Book Drive Drop Off
DESCRIPTION:SPONSOR A BOOK BECOME A BOOK FAIRY 📚✨🧚 \nOur FREE community closet is expanding to include multilingual books. We have partnered up with local bookstores to curate a list books our community members would appreciate – visit our WISHLIST \n \n 
URL:https://www.unlocal.org/event/book-drive-drop-off/2024-07-26/
LOCATION:UnLocal\, 45 West 29th Street\, Suite 203\, New York\, NY\, 10001\, United States
CATEGORIES:E+O
ATTACH;FMTTYPE=image/png:https://www.unlocal.org/wp-content/uploads/2024/06/11.png
END:VEVENT
BEGIN:VEVENT
DTSTART;TZID=America/New_York:20240727T100000
DTEND;TZID=America/New_York:20240727T130000
DTSTAMP:20260421T120433
CREATED:20240626T173151Z
LAST-MODIFIED:20240703T164432Z
UID:10000060-1722074400-1722085200@www.unlocal.org
SUMMARY:Nuestros Libros
DESCRIPTION:In collaboration with the High Line\, the Education and Outreach team is hosting a summer reading program titled\, Nuestros Libros. Nuestros Libros is a community-oriented project that uplifts and celebrates BIPOC stories of resilience\, prosperity\, and joy. \nThis project will invite several BIPOC authors to perform readings of their work in the form of a readathon across the High Line. The read-a-thon will highlight stories centered on the undocumented and migration experience to welcome recently arrived immigrants to New York and combat xenophobic narratives via reading circles. The reading circles will range in ages\, from toddlers to young adults. \nThis event will take place on July 27th\, 2024 from 10-1 p.m. on the High Line Park. \n 
URL:https://www.unlocal.org/event/nuestros-libros/
LOCATION:10th ave & West 14th ST\, 10th ave &West 14th ST\, Manhattan\, United States
ATTACH;FMTTYPE=image/png:https://www.unlocal.org/wp-content/uploads/2024/06/SPAN_-_Nuestros_Libros1.png
END:VEVENT
BEGIN:VEVENT
DTSTART;TZID=America/New_York:20240729T183000
DTEND;TZID=America/New_York:20240729T203000
DTSTAMP:20260421T120433
CREATED:20240722T212812Z
LAST-MODIFIED:20240722T213107Z
UID:10000063-1722277800-1722285000@www.unlocal.org
SUMMARY:Conozca sus Derechos - Orientación legal sobre la solicitud para el permiso de trabajo
DESCRIPTION:The LGBT Community Center‘s Support team is once again partnering with UnLocal to bring another installment in our series of Know Your Rights presentations this summer. This month’s topic will be Employment Authorization eligibility requirements after submitting an asylum application. Folks from UnLocal will be giving a presentation and leading a Q&A for community members in Spanish. This event will be in a hybrid format\, taking place at The Center and online via Zoom on Monday\, July 29th from 6:30PM-8:30PM.
URL:https://www.unlocal.org/event/conozca-sus-derechos-orientacion-legal-sobre-la-solicitud-para-el-permiso-de-trabajo/
LOCATION:Zoom
CATEGORIES:E+O
ATTACH;FMTTYPE=image/jpeg:https://www.unlocal.org/wp-content/uploads/2024/07/EAD-orientation-JULY-29.jpg
END:VEVENT
BEGIN:VEVENT
DTSTART;TZID=America/New_York:20240730T170000
DTEND;TZID=America/New_York:20240730T190000
DTSTAMP:20260421T120433
CREATED:20240623T203956Z
LAST-MODIFIED:20240723T174422Z
UID:10000011-1722358800-1722366000@www.unlocal.org
SUMMARY:Drop-in Printmaking with Mobile Print Power
DESCRIPTION:Join multigenerational printmaking collective Mobile Print Power (MPP) for a drop-in silkscreen printing workshop at UnLocal. Participants will learn about creating socially engaged art and participatory design through printmaking\, and will make a screenprint to take home. \nThis workshop is open to all ages. Seating is available on a first-come\, first-served basis. \nTranslators in Spanish and French will be present.  \nMobile Print Power is a multigenerational collective that started as a weekly printmaking and political education workshop in Corona\, Queens\, in 2013. Mobile Print Power uses their methodology for participatory design in public space and a pair of portable silkscreen printmaking carts to engage communities and explore social and cultural situations. Mobile Print Power co-creates books\, prints\, and public sculptures with their communities. Each project reflects their commitment to social change and belief in the value of shared artistic production. \n 
URL:https://www.unlocal.org/event/drop-in-printmaking-with-mobile-print-power/2024-07-30/
LOCATION:UnLocal\, 45 West 29th Street\, Suite 203\, New York\, NY\, 10001\, United States
CATEGORIES:E+O
ATTACH;FMTTYPE=image/jpeg:https://www.unlocal.org/wp-content/uploads/2024/06/IMG_8831-scaled.jpg
END:VEVENT
BEGIN:VEVENT
DTSTART;TZID=America/New_York:20240731T163000
DTEND;TZID=America/New_York:20240731T180000
DTSTAMP:20260421T120433
CREATED:20240723T174008Z
LAST-MODIFIED:20241126T230902Z
UID:10000064-1722443400-1722448800@www.unlocal.org
SUMMARY:Unlocal Running Day
DESCRIPTION:Cancelled 
URL:https://www.unlocal.org/event/unlocal-running-day-2/2024-07-31/
LOCATION:UnLocal\, 45 West 29th Street\, Suite 203\, New York\, NY\, 10001\, United States
ATTACH;FMTTYPE=image/png:https://www.unlocal.org/wp-content/uploads/2024/07/Marathon-running-day.png
END:VEVENT
END:VCALENDAR