BEGIN:VCALENDAR
VERSION:2.0
PRODID:-//Unlocal - ECPv6.15.17//NONSGML v1.0//EN
CALSCALE:GREGORIAN
METHOD:PUBLISH
X-WR-CALNAME:Unlocal
X-ORIGINAL-URL:https://www.unlocal.org
X-WR-CALDESC:Events for Unlocal
REFRESH-INTERVAL;VALUE=DURATION:PT1H
X-Robots-Tag:noindex
X-PUBLISHED-TTL:PT1H
BEGIN:VTIMEZONE
TZID:America/New_York
BEGIN:DAYLIGHT
TZOFFSETFROM:-0500
TZOFFSETTO:-0400
TZNAME:EDT
DTSTART:20230312T070000
END:DAYLIGHT
BEGIN:STANDARD
TZOFFSETFROM:-0400
TZOFFSETTO:-0500
TZNAME:EST
DTSTART:20231105T060000
END:STANDARD
BEGIN:DAYLIGHT
TZOFFSETFROM:-0500
TZOFFSETTO:-0400
TZNAME:EDT
DTSTART:20240310T070000
END:DAYLIGHT
BEGIN:STANDARD
TZOFFSETFROM:-0400
TZOFFSETTO:-0500
TZNAME:EST
DTSTART:20241103T060000
END:STANDARD
BEGIN:DAYLIGHT
TZOFFSETFROM:-0500
TZOFFSETTO:-0400
TZNAME:EDT
DTSTART:20250309T070000
END:DAYLIGHT
BEGIN:STANDARD
TZOFFSETFROM:-0400
TZOFFSETTO:-0500
TZNAME:EST
DTSTART:20251102T060000
END:STANDARD
END:VTIMEZONE
BEGIN:VEVENT
DTSTART;TZID=America/New_York:20240501T140000
DTEND;TZID=America/New_York:20240501T190000
DTSTAMP:20260421T143801
CREATED:20240320T202957Z
LAST-MODIFIED:20240501T034601Z
UID:10000015-1714572000-1714590000@www.unlocal.org
SUMMARY:Resource Fair 2024
DESCRIPTION:This fair is an amazing opportunity for you\, your friends\, and family to not only understand more about the resources available around you\, but to also learn about new organizations you may have never heard of! Join us to learn more from our partner organizations such as El Puente\, Commonpoints Queens\, Ryan Chelsea Clinton Community Health\, Immschools\, and Heal(thy)Self.\n\nAll attendees will receive valuable insight and access a wide range of new resources from our partner organizations ranging from health care services\, private mental health and substance use counseling practices\, English classes\, food pantry information\, youth and community development programs\, and “know your rights information”. Everyone is welcome at this event including children\, friends and family\, even if they have never been serviced by UnLocal.
URL:https://www.unlocal.org/event/resource-fair-2024-save-the-date/
LOCATION:UnLocal\, 45 West 29th Street\, Suite 203\, New York\, NY\, 10001\, United States
CATEGORIES:E+O
ATTACH;FMTTYPE=image/png:https://www.unlocal.org/wp-content/uploads/2024/03/Resource-Fair-2024-SAVE-DATE.png
END:VEVENT
BEGIN:VEVENT
DTSTART;TZID=America/New_York:20240506T180000
DTEND;TZID=America/New_York:20240506T200000
DTSTAMP:20260421T143801
CREATED:20240501T155446Z
LAST-MODIFIED:20240520T153608Z
UID:10000044-1715018400-1715025600@www.unlocal.org
SUMMARY:Volunteer Training Part I\, “Basics of Asylum”
DESCRIPTION:These presentations will be conducted in English. \nUnLocal will be leading a series of trainings to support the onboarding of new volunteers. The first training on May 6th will cover the intricacies of the U.S. immigration system and build foundational knowledge for all volunteers. We’ll be starting with:\nWhat is the Pro Se Plus Project?\nReview of US Immigration System\nICE Check-Ins & EOIR Hearings\nAsylum Policies & Procedures\nResources\n\n\n\nThe second training on May 20th will begin discussing best practices in supporting immigrant community members when filling out administrative forms. We will:\nReview Core Concepts\, Agency Review\, How to identify an A number\, and Best Practices for Interacting with Clients;\nHow can we support form submission?\nWhat is a Motion to Change Venue?\nInformation you will need Elements of a Motion to Change Venue Steps on How to Complete and Submit the Motion Updating address with ICE and USCIS
URL:https://www.unlocal.org/event/volunteer-training-part-i-basics-of-asylum/
LOCATION:UnLocal\, 45 West 29th Street\, Suite 203\, New York\, NY\, 10001\, United States
ATTACH;FMTTYPE=image/png:https://www.unlocal.org/wp-content/uploads/2024/05/IMG_0454.png
END:VEVENT
BEGIN:VEVENT
DTSTART;TZID=America/New_York:20240515T100000
DTEND;TZID=America/New_York:20240515T123000
DTSTAMP:20260421T143801
CREATED:20240515T134808Z
LAST-MODIFIED:20240520T165609Z
UID:10000030-1715767200-1715776200@www.unlocal.org
SUMMARY:May Intake
DESCRIPTION:
URL:https://www.unlocal.org/event/may-intake/2024-05-15/
LOCATION:Phone\, 10001
CATEGORIES:Intake
END:VEVENT
BEGIN:VEVENT
DTSTART;TZID=America/New_York:20240520T180000
DTEND;TZID=America/New_York:20240520T200000
DTSTAMP:20260421T143801
CREATED:20240501T155759Z
LAST-MODIFIED:20240520T153713Z
UID:10000040-1716228000-1716235200@www.unlocal.org
SUMMARY:Volunteer Training Part II\, “Filling Immigration Forms”
DESCRIPTION:These presentations will be conducted in English. \nUnLocal will be leading a series of trainings to support the onboarding of new volunteers. The first training on May 6th will cover the intricacies of the U.S. immigration system and build foundational knowledge for all volunteers. We’ll be starting with:\nWhat is the Pro Se Plus Project?\nReview of US Immigration System\nICE Check-Ins & EOIR Hearings\nAsylum Policies & Procedures\nResources \n\n\n\n\nThe second training on May 20th will begin discussing best practices in supporting immigrant community members when filling out administrative forms. We will:\nReview Core Concepts\, Agency Review\, How to identify an A number\, and Best Practices for Interacting with Clients;\nHow can we support form submission?\nWhat is a Motion to Change Venue?\nInformation you will need Elements of a Motion to Change Venue Steps on How to Complete and Submit the Motion Updating address with ICE and USCIS
URL:https://www.unlocal.org/event/volunteer-training-part-ii-filling-immigration-forms/
LOCATION:UnLocal\, 45 West 29th Street\, Suite 203\, New York\, NY\, 10001\, United States
END:VEVENT
BEGIN:VEVENT
DTSTART;TZID=America/New_York:20240522T100000
DTEND;TZID=America/New_York:20240522T123000
DTSTAMP:20260421T143801
CREATED:20240515T134808Z
LAST-MODIFIED:20240520T165609Z
UID:10000031-1716372000-1716381000@www.unlocal.org
SUMMARY:May Intake
DESCRIPTION:
URL:https://www.unlocal.org/event/may-intake/2024-05-22/
LOCATION:Phone\, 10001
CATEGORIES:Intake
END:VEVENT
BEGIN:VEVENT
DTSTART;TZID=America/New_York:20240529T100000
DTEND;TZID=America/New_York:20240529T123000
DTSTAMP:20260421T143801
CREATED:20240515T134808Z
LAST-MODIFIED:20240520T165609Z
UID:10000032-1716976800-1716985800@www.unlocal.org
SUMMARY:May Intake
DESCRIPTION:
URL:https://www.unlocal.org/event/may-intake/2024-05-29/
LOCATION:Phone\, 10001
CATEGORIES:Intake
END:VEVENT
END:VCALENDAR