BEGIN:VCALENDAR
VERSION:2.0
PRODID:-//Unlocal - ECPv6.15.17//NONSGML v1.0//EN
CALSCALE:GREGORIAN
METHOD:PUBLISH
X-WR-CALNAME:Unlocal
X-ORIGINAL-URL:https://www.unlocal.org
X-WR-CALDESC:Events for Unlocal
REFRESH-INTERVAL;VALUE=DURATION:PT1H
X-Robots-Tag:noindex
X-PUBLISHED-TTL:PT1H
BEGIN:VTIMEZONE
TZID:America/New_York
BEGIN:DAYLIGHT
TZOFFSETFROM:-0500
TZOFFSETTO:-0400
TZNAME:EDT
DTSTART:20210314T070000
END:DAYLIGHT
BEGIN:STANDARD
TZOFFSETFROM:-0400
TZOFFSETTO:-0500
TZNAME:EST
DTSTART:20211107T060000
END:STANDARD
BEGIN:DAYLIGHT
TZOFFSETFROM:-0500
TZOFFSETTO:-0400
TZNAME:EDT
DTSTART:20220313T070000
END:DAYLIGHT
BEGIN:STANDARD
TZOFFSETFROM:-0400
TZOFFSETTO:-0500
TZNAME:EST
DTSTART:20221106T060000
END:STANDARD
BEGIN:DAYLIGHT
TZOFFSETFROM:-0500
TZOFFSETTO:-0400
TZNAME:EDT
DTSTART:20230312T070000
END:DAYLIGHT
BEGIN:STANDARD
TZOFFSETFROM:-0400
TZOFFSETTO:-0500
TZNAME:EST
DTSTART:20231105T060000
END:STANDARD
BEGIN:DAYLIGHT
TZOFFSETFROM:-0500
TZOFFSETTO:-0400
TZNAME:EDT
DTSTART:20240310T070000
END:DAYLIGHT
BEGIN:STANDARD
TZOFFSETFROM:-0400
TZOFFSETTO:-0500
TZNAME:EST
DTSTART:20241103T060000
END:STANDARD
END:VTIMEZONE
BEGIN:VEVENT
DTSTART;VALUE=DATE:20230801
DTEND;VALUE=DATE:20230802
DTSTAMP:20260421T003006
CREATED:20230714T180922Z
LAST-MODIFIED:20230714T180922Z
UID:10000023-1690848000-1690934399@www.unlocal.org
SUMMARY:Closed Intake Hours
DESCRIPTION:The intake hotline is closed this month. Thank you for your patience!
URL:https://www.unlocal.org/event/closed-intake-hours/
LOCATION:NY
ATTACH;FMTTYPE=image/png:https://www.unlocal.org/wp-content/uploads/2023/07/August.png
END:VEVENT
BEGIN:VEVENT
DTSTART;TZID=America/New_York:20230614T153000
DTEND;TZID=America/New_York:20230614T170000
DTSTAMP:20260421T003006
CREATED:20230608T221550Z
LAST-MODIFIED:20230608T221840Z
UID:10000022-1686756600-1686762000@www.unlocal.org
SUMMARY:Change of Address +  Change of Venue
DESCRIPTION:Our next Pro Se Plus Project training for community advocates and supporters will cover the basics of motions to change venue in immigration court as well as what to know about changes of address with the court\, USCIS\, and ICE.
URL:https://www.unlocal.org/event/change-of-address-change-of-venue-2/
LOCATION:Masa\, 2770 Third Avenue\, Bronx\, 10455\, United States
ATTACH;FMTTYPE=image/png:https://www.unlocal.org/wp-content/uploads/2023/06/PSPP-Masa-FLYER-06.08.23.png
END:VEVENT
BEGIN:VEVENT
DTSTART;TZID=America/New_York:20230525T173000
DTEND;TZID=America/New_York:20230525T200000
DTSTAMP:20260421T003006
CREATED:20230509T181443Z
LAST-MODIFIED:20230509T181443Z
UID:10000028-1685035800-1685044800@www.unlocal.org
SUMMARY:Career Pair and Share
DESCRIPTION:Panel + Conversation with Immigrant Working Professionals \nCareer Pair and Share is back! We are excited to host a panel of immigrant working professionals of various work fields and immigration statuses. They will be speaking their on their personal experiences and offering advice on how to reach your goals.
URL:https://www.unlocal.org/event/career-pair-and-share/
LOCATION:UnLocal\, 45 West 29th Street\, Suite 203\, New York\, NY\, 10001\, United States
ATTACH;FMTTYPE=image/png:https://www.unlocal.org/wp-content/uploads/2023/05/2.png
END:VEVENT
BEGIN:VEVENT
DTSTART;TZID=America/New_York:20230522T153000
DTEND;TZID=America/New_York:20230522T170000
DTSTAMP:20260421T003006
CREATED:20230505T191343Z
LAST-MODIFIED:20230509T181709Z
UID:10000027-1684769400-1684774800@www.unlocal.org
SUMMARY:Change of Address & Change of Venue
DESCRIPTION:Our next Pro Se Plus Project training for community advocates and supporters will cover the basics of motions to change venue in immigration court as well as what to know about changes of address with the court\, USCIS\, and ICE.
URL:https://www.unlocal.org/event/change-of-address-change-of-venue/
LOCATION:Mixteca\, 245 23rd Street\, Brooklyn\, NY\, United States
ATTACH;FMTTYPE=image/png:https://www.unlocal.org/wp-content/uploads/2023/05/COA-COV-Flyer-5.22.23.png
END:VEVENT
BEGIN:VEVENT
DTSTART;TZID=America/New_York:20230519T180000
DTEND;TZID=America/New_York:20230519T200000
DTSTAMP:20260421T003006
CREATED:20230509T182510Z
LAST-MODIFIED:20230509T182657Z
UID:10000029-1684519200-1684526400@www.unlocal.org
SUMMARY:Open Hearts Open Arts Community Closet + Clothing Swap
DESCRIPTION:Mafer will be joining us on May 19th during our Open Hearts Open Arts community closet event. Stop by for some snacks\, music and new clothes!
URL:https://www.unlocal.org/event/7522/
LOCATION:UnLocal\, 45 West 29th Street\, Suite 203\, New York\, NY\, 10001\, United States
ATTACH;FMTTYPE=image/png:https://www.unlocal.org/wp-content/uploads/2023/05/Open-Hearts-Open-Arts-5.19.23.png
END:VEVENT
BEGIN:VEVENT
DTSTART;TZID=America/New_York:20230502T153000
DTEND;TZID=America/New_York:20230502T170000
DTSTAMP:20260421T003006
CREATED:20230424T172532Z
LAST-MODIFIED:20230426T132803Z
UID:10000026-1683041400-1683046800@www.unlocal.org
SUMMARY:Basics of Filing I-765 Applications for Work Authorization
DESCRIPTION:
URL:https://www.unlocal.org/event/basics-of-filing-i-765-applications-for-work-authorization/
LOCATION:Masa\, 2770 Third Avenue\, Bronx\, 10455\, United States
ATTACH;FMTTYPE=image/png:https://www.unlocal.org/wp-content/uploads/2023/04/Basics-of-I765-Application-Training-5.2.23.png
END:VEVENT
BEGIN:VEVENT
DTSTART;TZID=America/New_York:20230426T160000
DTEND;TZID=America/New_York:20230426T190000
DTSTAMP:20260421T003006
CREATED:20230417T162301Z
LAST-MODIFIED:20230417T162301Z
UID:10000036-1682524800-1682535600@www.unlocal.org
SUMMARY:Immigrant Wellness Resource Fair
DESCRIPTION:UnLocal will be hosting a Community Resource Fair on the third floor of 45 West 29th Street on Wednesday April 26th\, from 4-7pm. We would appreciate your attendance and your support in getting the word out by bringing friends and family members! Please RSVP to help us in the planning process and ensuring that we order a sufficient amount of food.
URL:https://www.unlocal.org/event/immigrant-wellness-resource-fair/
LOCATION:UnLocal\, 45 West 29th Street\, Suite 203\, New York\, NY\, 10001\, United States
ATTACH;FMTTYPE=image/png:https://www.unlocal.org/wp-content/uploads/2023/04/2023-Resource-Fair.png
END:VEVENT
BEGIN:VEVENT
DTSTART;TZID=America/New_York:20230417T153000
DTEND;TZID=America/New_York:20230417T170000
DTSTAMP:20260421T003006
CREATED:20230405T185507Z
LAST-MODIFIED:20230417T161549Z
UID:10000035-1681745400-1681750800@www.unlocal.org
SUMMARY:Supporting Community Members with their I-589 Applications
DESCRIPTION:
URL:https://www.unlocal.org/event/supporting-community-members-with-their-asylum-applications/
LOCATION:Mixteca\, 245 23rd Street\, Brooklyn\, NY\, United States
ATTACH;FMTTYPE=image/png:https://www.unlocal.org/wp-content/uploads/2023/04/Pro-Se-Plus-Project-PSPP-Basics-Plus-Current-Trends.png
END:VEVENT
BEGIN:VEVENT
DTSTART;TZID=America/New_York:20230411T173000
DTEND;TZID=America/New_York:20230411T193000
DTSTAMP:20260421T003006
CREATED:20230327T215124Z
LAST-MODIFIED:20230327T215124Z
UID:10000033-1681234200-1681241400@www.unlocal.org
SUMMARY:Mental Wellness through Art with Stephanie Martinez
DESCRIPTION:Stephanie Martinez (they/them\, she/her\, elle/ella) is a New York born and raised Garifuna visual artist. Their evolving artistic practice examines art as a political tool for collective healing and education of the working class and poor Black\, Indigenous\, Colonized peoples of the global majority. \nThis hybrid (virtual & in-person workshop) is an invitation for youth of the global majority to tap into their artist selves with a mental wellness night of painting\, drawing\, collaging with peers.
URL:https://www.unlocal.org/event/mental-wellness-through-art-with-stephanie-martinez/
LOCATION:UnLocal\, 45 West 29th Street\, Suite 203\, New York\, NY\, 10001\, United States
ATTACH;FMTTYPE=image/png:https://www.unlocal.org/wp-content/uploads/2023/03/Copy-of-Evelyn-Flyer-EngSpan-3.png
END:VEVENT
BEGIN:VEVENT
DTSTART;TZID=America/New_York:20230405T173000
DTEND;TZID=America/New_York:20230405T193000
DTSTAMP:20260421T003006
CREATED:20230327T211920Z
LAST-MODIFIED:20230327T212840Z
UID:10000003-1680715800-1680723000@www.unlocal.org
SUMMARY:From Hobbyist to Professional: My Path into Professional Photography
DESCRIPTION:Evelyn Martinez is a queer Xicana (Mexican-American) creative born and raised in The Bronx. As a Portrait Photographer\, she focuses on telling stories and portraying imagery of people of diverse backgrounds\, ages\, and body sizes. A central theme in Evelyn Martinez’s work is ingenuity\, authenticity\, and inclusiveness. \nThe workshop will cover the following: \n– Demonstrating how a simple\, goal oriented and intentional project can give you the lived experiences that can take you to the professional level; \n– Explaining pitching and world of stock photography; \n– Sharing connections/resources that can help youth get started on that journey to professional photography; and \n– Using social media/word of mouth to leverage your work and to build community.
URL:https://www.unlocal.org/event/from-hobbyist-to-professional-my-path-into-professional-photography/
LOCATION:UnLocal\, 45 West 29th Street\, Suite 203\, New York\, NY\, 10001\, United States
ATTACH;FMTTYPE=image/png:https://www.unlocal.org/wp-content/uploads/2023/03/1.png
END:VEVENT
BEGIN:VEVENT
DTSTART;TZID=America/New_York:20230403T110000
DTEND;TZID=America/New_York:20230403T123000
DTSTAMP:20260421T003006
CREATED:20230328T011327Z
LAST-MODIFIED:20230328T011327Z
UID:10000034-1680519600-1680525000@www.unlocal.org
SUMMARY:Supporting Community Members with their I-589 Applications
DESCRIPTION:
URL:https://www.unlocal.org/event/supporting-community-members-with-their-i-589-applications/
LOCATION:Masa\, 2770 Third Avenue\, Bronx\, 10455\, United States
ATTACH;FMTTYPE=image/png:https://www.unlocal.org/wp-content/uploads/2023/03/Supporting-Community-Members-in-their-Asylum-Applications.png
END:VEVENT
BEGIN:VEVENT
DTSTART;TZID=America/New_York:20230316T173000
DTEND;TZID=America/New_York:20230316T193000
DTSTAMP:20260421T003006
CREATED:20230314T015906Z
LAST-MODIFIED:20230314T015906Z
UID:10000039-1678987800-1678995000@www.unlocal.org
SUMMARY:Envisioning and Starting your Small Business
DESCRIPTION:📆Join us on Thursday March 16th\, 5:30PM-7:30PM at our office in Midtown for a Small Business workshop centered on the undocumented experience
URL:https://www.unlocal.org/event/envisioning-and-starting-your-small-business/
LOCATION:UnLocal\, 45 West 29th Street\, Suite 203\, New York\, NY\, 10001\, United States
ATTACH;FMTTYPE=image/png:https://www.unlocal.org/wp-content/uploads/2023/03/Screen-Shot-2023-03-13-at-9.57.02-PM.png
END:VEVENT
BEGIN:VEVENT
DTSTART;TZID=America/New_York:20230315T183000
DTEND;TZID=America/New_York:20230315T200000
DTSTAMP:20260421T003006
CREATED:20230314T015334Z
LAST-MODIFIED:20230314T015335Z
UID:10000038-1678905000-1678910400@www.unlocal.org
SUMMARY:Representación Pro Se o Auto Representación en la Corte de Inmigración
DESCRIPTION:📣 VIA y UnLocal se complacen en ofrecer el segundo conversatorio educativo del año esta vez sobre “Representación Pro Se o Auto Representación en la Corte de Inmigración” con la abogado Rebecca Press. \n📍Este webinar educativo explicará cómo representarse a sí mismo ante el Tribunal o Corte de Inmigración en los Estados Unidos\, y argumentar frente a un juez. \n📌”Pro se” es el significado en latín de “para uno mismo” y es el término legal que se usa para representarse a sí mismo. \n➡️ Cuándo: Miércoles 15 de marzo\n➡️ Hora: 6:30 pm (hora local NY)\n➡️ Por Zoom\n➡️ Actividad sin costo \n🤳 Comparte esta información con la comunidad. Gracias.
URL:https://www.unlocal.org/event/representacion-pro-se-o-auto-representacion-en-la-corte-de-inmigracion/
LOCATION:Zoom
ATTACH;FMTTYPE=image/jpeg:https://www.unlocal.org/wp-content/uploads/2023/03/Event-Flyer.jpeg
END:VEVENT
BEGIN:VEVENT
DTSTART;TZID=America/New_York:20230214T163000
DTEND;TZID=America/New_York:20230214T190000
DTSTAMP:20260421T003006
CREATED:20230214T120356Z
LAST-MODIFIED:20230214T141059Z
UID:10000037-1676392200-1676401200@www.unlocal.org
SUMMARY:Open Hearts Open Arts: El Salón
DESCRIPTION:La abogada Rebecca Press hablará sobre la aplicación de asilo más a fondo y contestará preguntas. \nAcompáñanos en una tertulia celebrando el día de la amistad y amor con musica Venezolana y bocadillos.
URL:https://www.unlocal.org/event/open-hearts-open-arts-el-salon-2/
LOCATION:UnLocal\, 45 West 29th Street\, Suite 203\, New York\, NY\, 10001\, United States
ATTACH;FMTTYPE=image/png:https://www.unlocal.org/wp-content/uploads/2023/02/1.png
END:VEVENT
BEGIN:VEVENT
DTSTART;TZID=America/New_York:20230213T170000
DTEND;TZID=America/New_York:20230213T190000
DTSTAMP:20260421T003006
CREATED:20230207T202921Z
LAST-MODIFIED:20230207T202921Z
UID:10000004-1676307600-1676314800@www.unlocal.org
SUMMARY:Propagating and Planning for New Year's
DESCRIPTION:All community members\, clients\, and students are invited to 🌱✨Propagating and Planning for the New Year! Plant expert\, Irvin Perez @irvinjungle will be guiding us through propagation tips as we chat about hopes for 2023. \nThis event is free\, and all materials will be provided by UnLocal. Dinner will be provided for all guests.
URL:https://www.unlocal.org/event/propagating-and-planning-for-new-years/
LOCATION:UnLocal\, 45 West 29th Street\, Suite 203\, New York\, NY\, 10001\, United States
ATTACH;FMTTYPE=image/png:https://www.unlocal.org/wp-content/uploads/2023/02/Screenshot-2023-02-07-at-3.27.42-PM.png
END:VEVENT
BEGIN:VEVENT
DTSTART;TZID=America/New_York:20230126T183000
DTEND;TZID=America/New_York:20230126T200000
DTSTAMP:20260421T003006
CREATED:20230125T010958Z
LAST-MODIFIED:20230125T165423Z
UID:10000043-1674757800-1674763200@www.unlocal.org
SUMMARY:Open Hearts Open Arts: El Salón
DESCRIPTION:
URL:https://www.unlocal.org/event/open-hearts-open-arts-el-salon/
LOCATION:UnLocal\, 45 West 29th Street\, Suite 203\, New York\, NY\, 10001\, United States
ATTACH;FMTTYPE=image/png:https://www.unlocal.org/wp-content/uploads/2023/01/ElSalon-1-Open-Hearts-Open-Arts-1.png
END:VEVENT
BEGIN:VEVENT
DTSTART;TZID=America/New_York:20230126T140000
DTEND;TZID=America/New_York:20230126T150000
DTSTAMP:20260421T003006
CREATED:20230124T223759Z
LAST-MODIFIED:20230125T173447Z
UID:10000042-1674741600-1674745200@www.unlocal.org
SUMMARY:Básicos del sistema de migración de los EEUU: Orientándose un sistema enorme
DESCRIPTION:
URL:https://www.unlocal.org/event/basicos-del-sistema-de-migracion-de-los-eeuu-orientandose-un-sistema-enorme/
LOCATION:Brooklyn\, NY
ATTACH;FMTTYPE=image/jpeg:https://www.unlocal.org/wp-content/uploads/2023/01/1.25.23-Glo-Hotel-Flyer.jpg
END:VEVENT
BEGIN:VEVENT
DTSTART;TZID=America/New_York:20230124T190000
DTEND;TZID=America/New_York:20230124T203000
DTSTAMP:20260421T003006
CREATED:20230124T222817Z
LAST-MODIFIED:20230124T224452Z
UID:10000041-1674586800-1674592200@www.unlocal.org
SUMMARY:I-589: LA SOLICITUD DE ASILO / TIPS PARA LLENARLA
DESCRIPTION:
URL:https://www.unlocal.org/event/i-589-la-solicitud-de-asilo-tips-para-llenarla/
LOCATION:Zoom
ATTACH;FMTTYPE=image/jpeg:https://www.unlocal.org/wp-content/uploads/2023/01/UnLocal-Via-1.24.23.jpg
END:VEVENT
BEGIN:VEVENT
DTSTART;TZID=America/New_York:20221202T160000
DTEND;TZID=America/New_York:20221202T200000
DTSTAMP:20260421T003006
CREATED:20221101T130522Z
LAST-MODIFIED:20221120T221706Z
UID:10000045-1669996800-1670011200@www.unlocal.org
SUMMARY:Celebrating a Decade of UnLocal
DESCRIPTION:Join us in Celebrating a Decade of UnLocal with our community. It will be an evening full of delicious food\, visual and performing arts\, and remarks from the individuals who make UnLocal so special. \n \nA Free Family-Friendly Event With: \nBook launch of A Decade of UnLocal: Stories and Recipes from our Community \nArtist stations with Angel Garcia\, Blanka Amezkua\, and Odalys Burgoa (4-6pm) \nMusical guests: Mafer Bandola and The Pipiris (6:30-7:15pm) \nCultural performance by Cetiliztli Nauhcampa (7:30pm-8pm) \nTamales\, Garifuna bread\, empanadas and more from local Food Vendors \nWe are currently looking for volunteers to help with set-up\, clean-up\, and during the event. If you would like to volunteer\, please fill out this form.
URL:https://www.unlocal.org/event/celebrating-a-decade-of-unlocal/
LOCATION:UnLocal\, 45 West 29th Street\, Suite 203\, New York\, NY\, 10001\, United States
ATTACH;FMTTYPE=image/png:https://www.unlocal.org/wp-content/uploads/2022/11/December-Celebration-For-Website.png
END:VEVENT
BEGIN:VEVENT
DTSTART;TZID=America/New_York:20221202T160000
DTEND;TZID=America/New_York:20221202T160000
DTSTAMP:20260421T003006
CREATED:20221207T132713Z
LAST-MODIFIED:20221216T215905Z
UID:10000048-1669996800-1669996800@www.unlocal.org
SUMMARY:A Decade of UnLocal: Stories and Recipes from our Communities
DESCRIPTION:In honor of our ten year anniversary\, we are publishing A Decade of UnLocal: Stories and Recipes from our Community. \nThis book\, full of recipes\, stories\, poetry\, and art highlights the many talents and accomplishments of our community and captures our community and history over the past decade. \n“As a child\, my parents and grandparents cooked us dishes like paprikash krumpli verslivel\, paprikash cherka\, and krumplileves. The oil from the chicken and the bright red of the paprika would puddle on my plate in tiny bubbles\, where I’d splash the salty potatoes. Before she passed away\, we tried to save my grandmother’s recipes- goulash\, spaetzle and  Zserbo. To this day\, the smells and tastes of this food remind me of our kitchen at 28 Cypress Place\, as if dinner is still there waiting.” – Michele Lampach\, UnLocal Founder\, Foreword \nAll those who donate $250 or more to our Ten Year Anniversary campaign will receive their copy of the book in December.
URL:https://www.unlocal.org/event/a-decade-of-unlocal-stories-and-recipes-from-our-communities/
LOCATION:NY
ATTACH;FMTTYPE=image/png:https://www.unlocal.org/wp-content/uploads/2022/11/A-Decade-of-UnLocal.png
END:VEVENT
BEGIN:VEVENT
DTSTART;TZID=America/New_York:20221117T173000
DTEND;TZID=America/New_York:20221117T203000
DTSTAMP:20260421T003006
CREATED:20221006T135025Z
LAST-MODIFIED:20221102T200955Z
UID:10000053-1668706200-1668717000@www.unlocal.org
SUMMARY:UnLocal Theater Circle
DESCRIPTION:The UnLocal Theater Circle is specially curated for those who need a creative space to participate in collaborative creation. The UnLocal Education and Outreach team has teamed up with A Laboratory for Actors Training (ALAT) to create space to read plays\, engage in theater practices\, and dismantle narratives using a Race\, Class\, Power\, and Privilege perspective. The UnLocal Theater Circle prioritizes undocumented folx or anyone who has lived that experience and concentrates on narratives of joy\, pleasure\, and humor. We are reinventing the ways we keep each other safe by controlling the stories we tell and uplift.
URL:https://www.unlocal.org/event/6574/2022-11-17/
LOCATION:UnLocal\, 45 West 29th Street\, Suite 203\, New York\, NY\, 10001\, United States
ATTACH;FMTTYPE=image/png:https://www.unlocal.org/wp-content/uploads/2022/10/Theater-Circle.png
END:VEVENT
BEGIN:VEVENT
DTSTART;TZID=America/New_York:20221114T163000
DTEND;TZID=America/New_York:20221114T183000
DTSTAMP:20260421T003006
CREATED:20221108T131524Z
LAST-MODIFIED:20221108T131524Z
UID:10000047-1668443400-1668450600@www.unlocal.org
SUMMARY:Holiday Letter Writing
DESCRIPTION:We will be hosting a Holiday Letter Writing on Monday\, November 14th from 4:30PM-6:30PM. \nLetters will be addressed to folks who are in a detention center. \nIf you have a loved one you’d like us to send letters to please email karla@unlocal.org with their name and A number.
URL:https://www.unlocal.org/event/holiday-letter-writing/
LOCATION:UnLocal\, 45 West 29th Street\, Suite 203\, New York\, NY\, 10001\, United States
ATTACH;FMTTYPE=image/png:https://www.unlocal.org/wp-content/uploads/2022/11/Screen-Shot-2022-11-08-at-8.11.40-AM.png
END:VEVENT
BEGIN:VEVENT
DTSTART;TZID=America/New_York:20221110T180000
DTEND;TZID=America/New_York:20221110T200000
DTSTAMP:20260421T003006
CREATED:20221104T094658Z
LAST-MODIFIED:20221104T095223Z
UID:10000046-1668103200-1668110400@www.unlocal.org
SUMMARY:CCS: Resume & Interview Workshop
DESCRIPTION:Never made a resume before? Looking to receive feedback on a resume you created? Nervous for an upcoming interview? The Community and Connection Series at UnLocal is hosting a Resume Review + Interview Tools Workshop. \nParticipants will meet with a designated individual to answer any questions or feedback.The workshop will take place virtually on Nov 10\, 2022 at 6 p.m. through zoom. Participants can receive feedback on their current resume or advice on how to make one. To participate\, fill out this form.
URL:https://www.unlocal.org/event/community-and-connections-series/
LOCATION:Zoom
ATTACH;FMTTYPE=image/png:https://www.unlocal.org/wp-content/uploads/2022/11/resume-workshop-flyer-.png
END:VEVENT
BEGIN:VEVENT
DTSTART;TZID=America/New_York:20221110T173000
DTEND;TZID=America/New_York:20221110T203000
DTSTAMP:20260421T003006
CREATED:20221006T135025Z
LAST-MODIFIED:20221102T200955Z
UID:10000052-1668101400-1668112200@www.unlocal.org
SUMMARY:UnLocal Theater Circle
DESCRIPTION:The UnLocal Theater Circle is specially curated for those who need a creative space to participate in collaborative creation. The UnLocal Education and Outreach team has teamed up with A Laboratory for Actors Training (ALAT) to create space to read plays\, engage in theater practices\, and dismantle narratives using a Race\, Class\, Power\, and Privilege perspective. The UnLocal Theater Circle prioritizes undocumented folx or anyone who has lived that experience and concentrates on narratives of joy\, pleasure\, and humor. We are reinventing the ways we keep each other safe by controlling the stories we tell and uplift.
URL:https://www.unlocal.org/event/6574/2022-11-10/
LOCATION:UnLocal\, 45 West 29th Street\, Suite 203\, New York\, NY\, 10001\, United States
ATTACH;FMTTYPE=image/png:https://www.unlocal.org/wp-content/uploads/2022/10/Theater-Circle.png
END:VEVENT
BEGIN:VEVENT
DTSTART;TZID=America/New_York:20221103T173000
DTEND;TZID=America/New_York:20221103T203000
DTSTAMP:20260421T003006
CREATED:20221006T135025Z
LAST-MODIFIED:20221102T200955Z
UID:10000051-1667496600-1667507400@www.unlocal.org
SUMMARY:UnLocal Theater Circle
DESCRIPTION:The UnLocal Theater Circle is specially curated for those who need a creative space to participate in collaborative creation. The UnLocal Education and Outreach team has teamed up with A Laboratory for Actors Training (ALAT) to create space to read plays\, engage in theater practices\, and dismantle narratives using a Race\, Class\, Power\, and Privilege perspective. The UnLocal Theater Circle prioritizes undocumented folx or anyone who has lived that experience and concentrates on narratives of joy\, pleasure\, and humor. We are reinventing the ways we keep each other safe by controlling the stories we tell and uplift.
URL:https://www.unlocal.org/event/6574/2022-11-03/
LOCATION:UnLocal\, 45 West 29th Street\, Suite 203\, New York\, NY\, 10001\, United States
ATTACH;FMTTYPE=image/png:https://www.unlocal.org/wp-content/uploads/2022/10/Theater-Circle.png
END:VEVENT
BEGIN:VEVENT
DTSTART;TZID=America/New_York:20221026T160000
DTEND;TZID=America/New_York:20221026T190000
DTSTAMP:20260421T003006
CREATED:20221024T165207Z
LAST-MODIFIED:20221024T165616Z
UID:10000054-1666800000-1666810800@www.unlocal.org
SUMMARY:Community Ofrenda
DESCRIPTION:The UnLocal community are welcome to bring an offering for the community altar in honor of all lives lost at the border\, at home and in consequence of American Imperialism. Please feel free to bring family and home to share.
URL:https://www.unlocal.org/event/community-ofrenda/
LOCATION:UnLocal\, 45 West 29th Street\, Suite 203\, New York\, NY\, 10001\, United States
ATTACH;FMTTYPE=image/png:https://www.unlocal.org/wp-content/uploads/2022/10/Screen-Shot-2022-10-24-at-12.49.22-PM-e1666630231874.png
END:VEVENT
BEGIN:VEVENT
DTSTART;TZID=America/New_York:20220915T150000
DTEND;TZID=America/New_York:20220915T180000
DTSTAMP:20260421T003006
CREATED:20220915T134738Z
LAST-MODIFIED:20220915T143821Z
UID:10000050-1663254000-1663264800@www.unlocal.org
SUMMARY:September Swap
DESCRIPTION:Join us for our September Swap. All are welcome to take what they need from the swap\, no need to bring something with you. \nThe UnLocal swaps are parties where community bring all types of items in new or good condition\, in the end\, participants are able to go home with new items\, declutter their homes and save money. \nOur UnLocal closet is created out of clothing donations\, with the intention that anyone from the community who needs some clothing can come and grab some. We also have a corner for interview and court clothing.
URL:https://www.unlocal.org/event/september-swap/
LOCATION:UnLocal\, 45 West 29th Street\, Suite 203\, New York\, NY\, 10001\, United States
ATTACH;FMTTYPE=image/png:https://www.unlocal.org/wp-content/uploads/2022/09/Screen-Shot-2022-09-15-at-10.06.52-AM.png
END:VEVENT
END:VCALENDAR