BEGIN:VCALENDAR
VERSION:2.0
PRODID:-//Unlocal - ECPv6.15.17//NONSGML v1.0//EN
CALSCALE:GREGORIAN
METHOD:PUBLISH
X-WR-CALNAME:Unlocal
X-ORIGINAL-URL:https://www.unlocal.org
X-WR-CALDESC:Events for Unlocal
REFRESH-INTERVAL;VALUE=DURATION:PT1H
X-Robots-Tag:noindex
X-PUBLISHED-TTL:PT1H
BEGIN:VTIMEZONE
TZID:America/New_York
BEGIN:DAYLIGHT
TZOFFSETFROM:-0500
TZOFFSETTO:-0400
TZNAME:EDT
DTSTART:20220313T070000
END:DAYLIGHT
BEGIN:STANDARD
TZOFFSETFROM:-0400
TZOFFSETTO:-0500
TZNAME:EST
DTSTART:20221106T060000
END:STANDARD
BEGIN:DAYLIGHT
TZOFFSETFROM:-0500
TZOFFSETTO:-0400
TZNAME:EDT
DTSTART:20230312T070000
END:DAYLIGHT
BEGIN:STANDARD
TZOFFSETFROM:-0400
TZOFFSETTO:-0500
TZNAME:EST
DTSTART:20231105T060000
END:STANDARD
BEGIN:DAYLIGHT
TZOFFSETFROM:-0500
TZOFFSETTO:-0400
TZNAME:EDT
DTSTART:20240310T070000
END:DAYLIGHT
BEGIN:STANDARD
TZOFFSETFROM:-0400
TZOFFSETTO:-0500
TZNAME:EST
DTSTART:20241103T060000
END:STANDARD
BEGIN:DAYLIGHT
TZOFFSETFROM:-0500
TZOFFSETTO:-0400
TZNAME:EDT
DTSTART:20250309T070000
END:DAYLIGHT
BEGIN:STANDARD
TZOFFSETFROM:-0400
TZOFFSETTO:-0500
TZNAME:EST
DTSTART:20251102T060000
END:STANDARD
END:VTIMEZONE
BEGIN:VEVENT
DTSTART;TZID=America/New_York:20240722T093000
DTEND;TZID=America/New_York:20240722T110000
DTSTAMP:20260421T013423
CREATED:20240626T174731Z
LAST-MODIFIED:20240703T164618Z
UID:10000062-1721640600-1721646000@www.unlocal.org
SUMMARY:Community Closet /Armario comunitario de UnLocal
DESCRIPTION:El Armario Comunitario de UnLocal estará abierto durante intervalos de tiempo para 15 minutos. Registrate para confirmar una cita. Todos son bienvenidos a llevar ropa para ellos y sus familias. \nEsto no es un consulta legal. \nUnLocal’s Community Closet will be open for 15 minute time slots. Please sign up below to confirm a spot. All are welcomed to take clothes for themselves and their families. This is not a legal consultation. \nLe placard communautaire UnLocal sera ouvert pendant des plages horaires de 15 minutes. Inscrivez-vous pour confirmer un rendez-vous. Tout le monde est invité à apporter des vêtements pour lui-même et sa famille. \nIl ne s’agit pas d’une consultation juridique.
URL:https://www.unlocal.org/event/community-closet-armario-comunitario-de-unlocal/2024-07-22/
LOCATION:NY
ATTACH;FMTTYPE=image/png:https://www.unlocal.org/wp-content/uploads/2024/06/Spanish-1.png
END:VEVENT
BEGIN:VEVENT
DTSTART;TZID=America/New_York:20240718T100000
DTEND;TZID=America/New_York:20240718T140000
DTSTAMP:20260421T013423
CREATED:20240626T164722Z
LAST-MODIFIED:20240722T214150Z
UID:10000058-1721296800-1721311200@www.unlocal.org
SUMMARY:Book Drive Drop Off
DESCRIPTION:SPONSOR A BOOK BECOME A BOOK FAIRY 📚✨🧚 \nOur FREE community closet is expanding to include multilingual books. We have partnered up with local bookstores to curate a list books our community members would appreciate – visit our WISHLIST \n \n 
URL:https://www.unlocal.org/event/book-drive-drop-off/2024-07-18/
LOCATION:UnLocal\, 45 West 29th Street\, Suite 203\, New York\, NY\, 10001\, United States
CATEGORIES:E+O
ATTACH;FMTTYPE=image/png:https://www.unlocal.org/wp-content/uploads/2024/06/11.png
END:VEVENT
BEGIN:VEVENT
DTSTART;TZID=America/New_York:20240716T100000
DTEND;TZID=America/New_York:20240716T140000
DTSTAMP:20260421T013423
CREATED:20240626T164722Z
LAST-MODIFIED:20240722T214150Z
UID:10000057-1721124000-1721138400@www.unlocal.org
SUMMARY:Book Drive Drop Off
DESCRIPTION:SPONSOR A BOOK BECOME A BOOK FAIRY 📚✨🧚 \nOur FREE community closet is expanding to include multilingual books. We have partnered up with local bookstores to curate a list books our community members would appreciate – visit our WISHLIST \n \n 
URL:https://www.unlocal.org/event/book-drive-drop-off/2024-07-16/
LOCATION:UnLocal\, 45 West 29th Street\, Suite 203\, New York\, NY\, 10001\, United States
CATEGORIES:E+O
ATTACH;FMTTYPE=image/png:https://www.unlocal.org/wp-content/uploads/2024/06/11.png
END:VEVENT
BEGIN:VEVENT
DTSTART;TZID=America/New_York:20240709T170000
DTEND;TZID=America/New_York:20240709T190000
DTSTAMP:20260421T013423
CREATED:20240623T203956Z
LAST-MODIFIED:20240723T174422Z
UID:10000010-1720544400-1720551600@www.unlocal.org
SUMMARY:Drop-in Printmaking with Mobile Print Power
DESCRIPTION:Join multigenerational printmaking collective Mobile Print Power (MPP) for a drop-in silkscreen printing workshop at UnLocal. Participants will learn about creating socially engaged art and participatory design through printmaking\, and will make a screenprint to take home. \nThis workshop is open to all ages. Seating is available on a first-come\, first-served basis. \nTranslators in Spanish and French will be present.  \nMobile Print Power is a multigenerational collective that started as a weekly printmaking and political education workshop in Corona\, Queens\, in 2013. Mobile Print Power uses their methodology for participatory design in public space and a pair of portable silkscreen printmaking carts to engage communities and explore social and cultural situations. Mobile Print Power co-creates books\, prints\, and public sculptures with their communities. Each project reflects their commitment to social change and belief in the value of shared artistic production. \n 
URL:https://www.unlocal.org/event/drop-in-printmaking-with-mobile-print-power/2024-07-09/
LOCATION:UnLocal\, 45 West 29th Street\, Suite 203\, New York\, NY\, 10001\, United States
CATEGORIES:E+O
ATTACH;FMTTYPE=image/jpeg:https://www.unlocal.org/wp-content/uploads/2024/06/IMG_8831-scaled.jpg
END:VEVENT
BEGIN:VEVENT
DTSTART;TZID=America/New_York:20240709T100000
DTEND;TZID=America/New_York:20240709T140000
DTSTAMP:20260421T013423
CREATED:20240626T164722Z
LAST-MODIFIED:20240722T214150Z
UID:10000056-1720519200-1720533600@www.unlocal.org
SUMMARY:Book Drive Drop Off
DESCRIPTION:SPONSOR A BOOK BECOME A BOOK FAIRY 📚✨🧚 \nOur FREE community closet is expanding to include multilingual books. We have partnered up with local bookstores to curate a list books our community members would appreciate – visit our WISHLIST \n \n 
URL:https://www.unlocal.org/event/book-drive-drop-off/2024-07-09/
LOCATION:UnLocal\, 45 West 29th Street\, Suite 203\, New York\, NY\, 10001\, United States
CATEGORIES:E+O
ATTACH;FMTTYPE=image/png:https://www.unlocal.org/wp-content/uploads/2024/06/11.png
END:VEVENT
BEGIN:VEVENT
DTSTART;TZID=America/New_York:20240708T093000
DTEND;TZID=America/New_York:20240708T110000
DTSTAMP:20260421T013424
CREATED:20240626T174731Z
LAST-MODIFIED:20240703T164618Z
UID:10000061-1720431000-1720436400@www.unlocal.org
SUMMARY:Community Closet /Armario comunitario de UnLocal
DESCRIPTION:El Armario Comunitario de UnLocal estará abierto durante intervalos de tiempo para 15 minutos. Registrate para confirmar una cita. Todos son bienvenidos a llevar ropa para ellos y sus familias. \nEsto no es un consulta legal. \nUnLocal’s Community Closet will be open for 15 minute time slots. Please sign up below to confirm a spot. All are welcomed to take clothes for themselves and their families. This is not a legal consultation. \nLe placard communautaire UnLocal sera ouvert pendant des plages horaires de 15 minutes. Inscrivez-vous pour confirmer un rendez-vous. Tout le monde est invité à apporter des vêtements pour lui-même et sa famille. \nIl ne s’agit pas d’une consultation juridique.
URL:https://www.unlocal.org/event/community-closet-armario-comunitario-de-unlocal/2024-07-08/
LOCATION:NY
ATTACH;FMTTYPE=image/png:https://www.unlocal.org/wp-content/uploads/2024/06/Spanish-1.png
END:VEVENT
BEGIN:VEVENT
DTSTART;TZID=America/New_York:20240625T170000
DTEND;TZID=America/New_York:20240625T190000
DTSTAMP:20260421T013424
CREATED:20240623T203956Z
LAST-MODIFIED:20240723T174422Z
UID:10000009-1719334800-1719342000@www.unlocal.org
SUMMARY:Drop-in Printmaking with Mobile Print Power
DESCRIPTION:Join multigenerational printmaking collective Mobile Print Power (MPP) for a drop-in silkscreen printing workshop at UnLocal. Participants will learn about creating socially engaged art and participatory design through printmaking\, and will make a screenprint to take home. \nThis workshop is open to all ages. Seating is available on a first-come\, first-served basis. \nTranslators in Spanish and French will be present.  \nMobile Print Power is a multigenerational collective that started as a weekly printmaking and political education workshop in Corona\, Queens\, in 2013. Mobile Print Power uses their methodology for participatory design in public space and a pair of portable silkscreen printmaking carts to engage communities and explore social and cultural situations. Mobile Print Power co-creates books\, prints\, and public sculptures with their communities. Each project reflects their commitment to social change and belief in the value of shared artistic production. \n 
URL:https://www.unlocal.org/event/drop-in-printmaking-with-mobile-print-power/2024-06-25/
LOCATION:UnLocal\, 45 West 29th Street\, Suite 203\, New York\, NY\, 10001\, United States
CATEGORIES:E+O
ATTACH;FMTTYPE=image/jpeg:https://www.unlocal.org/wp-content/uploads/2024/06/IMG_8831-scaled.jpg
END:VEVENT
BEGIN:VEVENT
DTSTART;TZID=America/New_York:20240625T160000
DTEND;TZID=America/New_York:20240625T170000
DTSTAMP:20260421T013424
CREATED:20240625T151623Z
LAST-MODIFIED:20240625T151716Z
UID:10000055-1719331200-1719334800@www.unlocal.org
SUMMARY:New York State DREAM Act 101
DESCRIPTION:Join us on Facebook Live! Come learn about *NYSDA* New York State DREAM Act gives undocumented and other students access to New York State‐administered student financial aid to support their higher education costs 💸📚📝 \nDo you want to receive more information about NYSDA?\nEmail us at nysda@unlocal.org
URL:https://www.unlocal.org/event/new-york-state-dream-act-101/
LOCATION:Facebook
ATTACH;FMTTYPE=image/png:https://www.unlocal.org/wp-content/uploads/2024/06/NYSDA-Facebook-Live.png
END:VEVENT
BEGIN:VEVENT
DTSTART;TZID=America/New_York:20240613T160000
DTEND;TZID=America/New_York:20240613T190000
DTSTAMP:20260421T013424
CREATED:20240520T191036Z
LAST-MODIFIED:20240611T223748Z
UID:10000025-1718294400-1718305200@www.unlocal.org
SUMMARY:Cumbia Pride
DESCRIPTION:Cumbia Pride is a dance workshop led by community member\, Mark Saldana\, which teaches folks the basic steps of Cumbia. Mark has worked with UnLocal as a vendor in our previous end of the year markets and as an contributing artist in our fundraising Fall campaign via our coloring book.  \n       
URL:https://www.unlocal.org/event/cumbia-pride/
LOCATION:UnLocal\, 45 West 29th Street\, Suite 203\, New York\, NY\, 10001\, United States
ATTACH;FMTTYPE=image/png:https://www.unlocal.org/wp-content/uploads/2024/05/5.png
END:VEVENT
BEGIN:VEVENT
DTSTART;VALUE=DATE:20240601
DTEND;VALUE=DATE:20240701
DTSTAMP:20260421T013424
CREATED:20240611T223708Z
LAST-MODIFIED:20240611T223708Z
UID:10000016-1717200000-1719791999@www.unlocal.org
SUMMARY:June Intake
DESCRIPTION:Intake Is Closed / Linea de Admisión Esta Cerrada\n\n\nUnLocal tiene una línea directa de admisión abierta dos veces por semana. Las horas y los días cambian mensualmente; vuelva a consultar nuestras páginas para obtener actualizaciones. \n\nDebido al gran volumen de llamadas\, no siempre podemos devolver su mensaje.\nPodemos programar consultas gratuitas de 30 minutos con un asistente legal de nuestro equipo.\nEl tiempo de espera para una cita es de 3 a 4 semanas.\nPodemos responder preguntas y derivarlo a otros recursos.\nEn este momento no podemos representar casos.\n\nUnLocal has an open intake hotline that is open twice a week. The hours and days change monthly\, please check back here for updates. \n\nUnfortunately due to the high volume of calls we cannot always return your message.\nWe are able to schedule 30 minute free consultations with a paralegal on our team.\nThe wait time for an appointment is 3-4 weeks.\nWe can answer questions and refer you out to other resources.\nAt this time we are not able to represent cases.
URL:https://www.unlocal.org/event/june-intake/
LOCATION:UnLocal\, 45 West 29th Street\, Suite 203\, New York\, NY\, 10001\, United States
CATEGORIES:Intake
ATTACH;FMTTYPE=image/png:https://www.unlocal.org/wp-content/uploads/2024/06/June-2.png
END:VEVENT
BEGIN:VEVENT
DTSTART;TZID=America/New_York:20240529T100000
DTEND;TZID=America/New_York:20240529T123000
DTSTAMP:20260421T013424
CREATED:20240515T134808Z
LAST-MODIFIED:20240520T165609Z
UID:10000032-1716976800-1716985800@www.unlocal.org
SUMMARY:May Intake
DESCRIPTION:
URL:https://www.unlocal.org/event/may-intake/2024-05-29/
LOCATION:Phone\, 10001
CATEGORIES:Intake
END:VEVENT
BEGIN:VEVENT
DTSTART;TZID=America/New_York:20240522T100000
DTEND;TZID=America/New_York:20240522T123000
DTSTAMP:20260421T013424
CREATED:20240515T134808Z
LAST-MODIFIED:20240520T165609Z
UID:10000031-1716372000-1716381000@www.unlocal.org
SUMMARY:May Intake
DESCRIPTION:
URL:https://www.unlocal.org/event/may-intake/2024-05-22/
LOCATION:Phone\, 10001
CATEGORIES:Intake
END:VEVENT
BEGIN:VEVENT
DTSTART;TZID=America/New_York:20240520T180000
DTEND;TZID=America/New_York:20240520T200000
DTSTAMP:20260421T013424
CREATED:20240501T155759Z
LAST-MODIFIED:20240520T153713Z
UID:10000040-1716228000-1716235200@www.unlocal.org
SUMMARY:Volunteer Training Part II\, “Filling Immigration Forms”
DESCRIPTION:These presentations will be conducted in English. \nUnLocal will be leading a series of trainings to support the onboarding of new volunteers. The first training on May 6th will cover the intricacies of the U.S. immigration system and build foundational knowledge for all volunteers. We’ll be starting with:\nWhat is the Pro Se Plus Project?\nReview of US Immigration System\nICE Check-Ins & EOIR Hearings\nAsylum Policies & Procedures\nResources \n\n\n\n\nThe second training on May 20th will begin discussing best practices in supporting immigrant community members when filling out administrative forms. We will:\nReview Core Concepts\, Agency Review\, How to identify an A number\, and Best Practices for Interacting with Clients;\nHow can we support form submission?\nWhat is a Motion to Change Venue?\nInformation you will need Elements of a Motion to Change Venue Steps on How to Complete and Submit the Motion Updating address with ICE and USCIS
URL:https://www.unlocal.org/event/volunteer-training-part-ii-filling-immigration-forms/
LOCATION:UnLocal\, 45 West 29th Street\, Suite 203\, New York\, NY\, 10001\, United States
END:VEVENT
BEGIN:VEVENT
DTSTART;TZID=America/New_York:20240515T100000
DTEND;TZID=America/New_York:20240515T123000
DTSTAMP:20260421T013424
CREATED:20240515T134808Z
LAST-MODIFIED:20240520T165609Z
UID:10000030-1715767200-1715776200@www.unlocal.org
SUMMARY:May Intake
DESCRIPTION:
URL:https://www.unlocal.org/event/may-intake/2024-05-15/
LOCATION:Phone\, 10001
CATEGORIES:Intake
END:VEVENT
BEGIN:VEVENT
DTSTART;TZID=America/New_York:20240506T180000
DTEND;TZID=America/New_York:20240506T200000
DTSTAMP:20260421T013424
CREATED:20240501T155446Z
LAST-MODIFIED:20240520T153608Z
UID:10000044-1715018400-1715025600@www.unlocal.org
SUMMARY:Volunteer Training Part I\, “Basics of Asylum”
DESCRIPTION:These presentations will be conducted in English. \nUnLocal will be leading a series of trainings to support the onboarding of new volunteers. The first training on May 6th will cover the intricacies of the U.S. immigration system and build foundational knowledge for all volunteers. We’ll be starting with:\nWhat is the Pro Se Plus Project?\nReview of US Immigration System\nICE Check-Ins & EOIR Hearings\nAsylum Policies & Procedures\nResources\n\n\n\nThe second training on May 20th will begin discussing best practices in supporting immigrant community members when filling out administrative forms. We will:\nReview Core Concepts\, Agency Review\, How to identify an A number\, and Best Practices for Interacting with Clients;\nHow can we support form submission?\nWhat is a Motion to Change Venue?\nInformation you will need Elements of a Motion to Change Venue Steps on How to Complete and Submit the Motion Updating address with ICE and USCIS
URL:https://www.unlocal.org/event/volunteer-training-part-i-basics-of-asylum/
LOCATION:UnLocal\, 45 West 29th Street\, Suite 203\, New York\, NY\, 10001\, United States
ATTACH;FMTTYPE=image/png:https://www.unlocal.org/wp-content/uploads/2024/05/IMG_0454.png
END:VEVENT
BEGIN:VEVENT
DTSTART;TZID=America/New_York:20240501T140000
DTEND;TZID=America/New_York:20240501T190000
DTSTAMP:20260421T013424
CREATED:20240320T202957Z
LAST-MODIFIED:20240501T034601Z
UID:10000015-1714572000-1714590000@www.unlocal.org
SUMMARY:Resource Fair 2024
DESCRIPTION:This fair is an amazing opportunity for you\, your friends\, and family to not only understand more about the resources available around you\, but to also learn about new organizations you may have never heard of! Join us to learn more from our partner organizations such as El Puente\, Commonpoints Queens\, Ryan Chelsea Clinton Community Health\, Immschools\, and Heal(thy)Self.\n\nAll attendees will receive valuable insight and access a wide range of new resources from our partner organizations ranging from health care services\, private mental health and substance use counseling practices\, English classes\, food pantry information\, youth and community development programs\, and “know your rights information”. Everyone is welcome at this event including children\, friends and family\, even if they have never been serviced by UnLocal.
URL:https://www.unlocal.org/event/resource-fair-2024-save-the-date/
LOCATION:UnLocal\, 45 West 29th Street\, Suite 203\, New York\, NY\, 10001\, United States
CATEGORIES:E+O
ATTACH;FMTTYPE=image/png:https://www.unlocal.org/wp-content/uploads/2024/03/Resource-Fair-2024-SAVE-DATE.png
END:VEVENT
BEGIN:VEVENT
DTSTART;TZID=America/New_York:20240418T180000
DTEND;TZID=America/New_York:20240418T193000
DTSTAMP:20260421T013424
CREATED:20240416T160011Z
LAST-MODIFIED:20240416T160011Z
UID:10000005-1713463200-1713468600@www.unlocal.org
SUMMARY:El Salón
DESCRIPTION:
URL:https://www.unlocal.org/event/el-salon/
LOCATION:UnLocal\, 45 West 29th Street\, Suite 203\, New York\, NY\, 10001\, United States
ATTACH;FMTTYPE=image/png:https://www.unlocal.org/wp-content/uploads/2024/04/IMG_0299.png
END:VEVENT
BEGIN:VEVENT
DTSTART;TZID=America/New_York:20240401T000000
DTEND;TZID=America/New_York:20240430T000000
DTSTAMP:20260421T013424
CREATED:20240408T003630Z
LAST-MODIFIED:20240509T235702Z
UID:10000008-1711929600-1714435200@www.unlocal.org
SUMMARY:April Intake
DESCRIPTION:
URL:https://www.unlocal.org/event/april-intake/
LOCATION:Phone\, 10001
END:VEVENT
BEGIN:VEVENT
DTSTART;TZID=America/New_York:20240321T173000
DTEND;TZID=America/New_York:20240321T173000
DTSTAMP:20260421T013424
CREATED:20240408T002112Z
LAST-MODIFIED:20240408T002112Z
UID:10000007-1711042200-1711042200@www.unlocal.org
SUMMARY:Proceso de ITIN
DESCRIPTION:
URL:https://www.unlocal.org/event/proceso-de-itin/
LOCATION:Facebook
END:VEVENT
BEGIN:VEVENT
DTSTART;TZID=America/New_York:20240320T173000
DTEND;TZID=America/New_York:20240320T173000
DTSTAMP:20260421T013424
CREATED:20240408T000803Z
LAST-MODIFIED:20240408T000803Z
UID:10000006-1710955800-1710955800@www.unlocal.org
SUMMARY:Impuestos individuales
DESCRIPTION:
URL:https://www.unlocal.org/event/impuestos-individuales/
LOCATION:Zoom
END:VEVENT
BEGIN:VEVENT
DTSTART;VALUE=DATE:20240305
DTEND;VALUE=DATE:20240330
DTSTAMP:20260421T013424
CREATED:20240320T204354Z
LAST-MODIFIED:20240320T204354Z
UID:10000001-1709596800-1711756799@www.unlocal.org
SUMMARY:March Intake
DESCRIPTION:
URL:https://www.unlocal.org/event/march-intake/
LOCATION:Phone\, 10001
CATEGORIES:Intake
ATTACH;FMTTYPE=image/jpeg:https://www.unlocal.org/wp-content/uploads/2024/03/IMG_3556-e1709747239737.jpg
END:VEVENT
BEGIN:VEVENT
DTSTART;VALUE=DATE:20240102
DTEND;VALUE=DATE:20240129
DTSTAMP:20260421T013424
CREATED:20240105T163657Z
LAST-MODIFIED:20240111T211933Z
UID:10000014-1704153600-1706486399@www.unlocal.org
SUMMARY:January Intake is Closed
DESCRIPTION:Intake Hours\n\n\n\nUnLocal tiene una línea directa de admisión abierta dos veces por semana. Las horas y los días cambian mensualmente; vuelva a consultar nuestras páginas para obtener actualizaciones. \n\nDebido al gran volumen de llamadas\, no siempre podemos devolver su mensaje.\nPodemos programar consultas gratuitas de 30 minutos con un asistente legal de nuestro equipo.\nEl tiempo de espera para una cita es de 3 a 4 semanas.\nPodemos responder preguntas y derivarlo a otros recursos.\nEn este momento no podemos representar casos.\n\nUnLocal has an open intake hotline that is open twice a week. The hours and days change monthly\, please check back here for updates. \n\nUnfortunately due to the high volume of calls we cannot always return your message.\nWe are able to schedule 30 minute free consultations with a paralegal on our team.\nThe wait time for an appointment is 3-4 weeks.\nWe can answer questions and refer you out to other resources.\nAt this time we are not able to represent cases.
URL:https://www.unlocal.org/event/january-intake-is-closed/
LOCATION:UnLocal\, 45 West 29th Street\, Suite 203\, New York\, NY\, 10001\, United States
CATEGORIES:Intake
END:VEVENT
BEGIN:VEVENT
DTSTART;VALUE=DATE:20231226
DTEND;VALUE=DATE:20240102
DTSTAMP:20260421T013424
CREATED:20231109T234018Z
LAST-MODIFIED:20231109T234018Z
UID:10000012-1703548800-1704153599@www.unlocal.org
SUMMARY:Closed
DESCRIPTION:
URL:https://www.unlocal.org/event/closed-2/
LOCATION:UnLocal\, 45 West 29th Street\, Suite 203\, New York\, NY\, 10001\, United States
END:VEVENT
BEGIN:VEVENT
DTSTART;TZID=America/New_York:20231130T170000
DTEND;TZID=America/New_York:20231130T200000
DTSTAMP:20260421T013424
CREATED:20231109T235419Z
LAST-MODIFIED:20240111T211426Z
UID:10000013-1701363600-1701374400@www.unlocal.org
SUMMARY:Holiday Market at El Clemente
DESCRIPTION:  \nA Community Celebration:The Clemente Breaks Ground on Construction Project for Unprecedented Accessibility Project in Historic Lower East Side FacilityCommunity Leaders\, Elected Officials join the celebration on the closing of the annual Borimix Festival The public is invited to UnLocal’s ‘Painting our Futures’ Holiday Market supporting immigrant communities\, and musical performances from Julieta Rada and Candombe to highlight the occasion. 
URL:https://www.unlocal.org/event/holiday-market-at-el-clemente/
LOCATION:The Clemente Center\, 107 Suffolk Street\, New York\, NY\, 10002\, United States
CATEGORIES:E+O
ATTACH;FMTTYPE=image/png:https://www.unlocal.org/wp-content/uploads/2023/11/Market-Vendors-Spotlight-23.png
END:VEVENT
BEGIN:VEVENT
DTSTART;VALUE=DATE:20231123
DTEND;VALUE=DATE:20231125
DTSTAMP:20260421T013424
CREATED:20231109T233829Z
LAST-MODIFIED:20231109T233829Z
UID:10000002-1700697600-1700870399@www.unlocal.org
SUMMARY:Closed
DESCRIPTION:
URL:https://www.unlocal.org/event/closed/
LOCATION:UnLocal\, 45 West 29th Street\, Suite 203\, New York\, NY\, 10001\, United States
END:VEVENT
BEGIN:VEVENT
DTSTART;TZID=America/New_York:20231115T150000
DTEND;TZID=America/New_York:20231115T190000
DTSTAMP:20260421T013424
CREATED:20231018T230956Z
LAST-MODIFIED:20240111T211745Z
UID:10000020-1700060400-1700074800@www.unlocal.org
SUMMARY:UnLocal Coat Drive
DESCRIPTION:  \n  \n  \n  \n  \n  \n  \n  \n  \n  \n  \n  \n  \n  \nUnLocal is hosting a Community Coat Drive for all community members and clients. \nThe event will take place on November 15th\, 2023 from 3:00 – 7:00 p.m. at the UnLocal office\, located at45 W. 29th St. Suite 203 New York\, NY 10001.\n\nTo attend this event\, please submit this registration form by November 6th\, 2023. Please note that RSVPing does not guarantee a coat in the size requested.
URL:https://www.unlocal.org/event/unlocal-coat-drive/
LOCATION:UnLocal\, 45 West 29th Street\, Suite 203\, New York\, NY\, 10001\, United States
CATEGORIES:E+O
ATTACH;FMTTYPE=image/png:https://www.unlocal.org/wp-content/uploads/2023/10/Coat_Drive_ENG.png
END:VEVENT
BEGIN:VEVENT
DTSTART;VALUE=DATE:20231002
DTEND;VALUE=DATE:20231003
DTSTAMP:20260421T013424
CREATED:20231016T223647Z
LAST-MODIFIED:20231018T224823Z
UID:10000019-1696204800-1696291199@www.unlocal.org
SUMMARY:Intake Hotline / Línea Directa de Admisión
DESCRIPTION:UnLocal tiene una línea directa de admisión abierta dos veces por semana. Las horas y los días cambian mensualmente; vuelva a consultar nuestras páginas para obtener actualizaciones. \n\n· Debido al gran volumen de llamadas\, no siempre podemos devolver su mensaje.\n· Podemos programar consultas gratuitas de 30 minutos con un asistente legal de nuestro equipo.\n· El tiempo de espera para una cita es de 3 a 4 semanas.\n· Podemos responder preguntas y derivarlo a otros recursos.\n\n· En este momento no podemos representar casos. \n\nUnLocal has an open intake hotline that is open twice a week. The hours and days change monthly\, please check back here for updates.\n\n\n\n\n·  Unfortunately due to the high volume of calls we cannot always return your message.\n· We are able to schedule 30 minute free consultations with a paralegal on our team. \n· The wait time for an appointment is 3-4 weeks.\n· We can answer questions and refer you out to other resources. \n· At this time we are not able to represent cases.  
URL:https://www.unlocal.org/event/intake-hotline-linea-directa-de-admision/
LOCATION:NY
ATTACH;FMTTYPE=image/png:https://www.unlocal.org/wp-content/uploads/2023/10/October-1.png
END:VEVENT
BEGIN:VEVENT
DTSTART;VALUE=DATE:20230905
DTEND;VALUE=DATE:20230906
DTSTAMP:20260421T013424
CREATED:20230822T202814Z
LAST-MODIFIED:20230822T202850Z
UID:10000017-1693872000-1693958399@www.unlocal.org
SUMMARY:September Intake
DESCRIPTION:Intake hours for the month of September start Tuesday September 5th\, 2023
URL:https://www.unlocal.org/event/september-intake/
LOCATION:NY
ATTACH;FMTTYPE=image/png:https://www.unlocal.org/wp-content/uploads/2023/08/Intake-September.png
END:VEVENT
BEGIN:VEVENT
DTSTART;VALUE=DATE:20230828
DTEND;VALUE=DATE:20230905
DTSTAMP:20260421T013424
CREATED:20230822T203320Z
LAST-MODIFIED:20230823T160407Z
UID:10000018-1693180800-1693871999@www.unlocal.org
SUMMARY:Office closed
DESCRIPTION:Enjoy the summer!
URL:https://www.unlocal.org/event/office-closed/
LOCATION:NY
ATTACH;FMTTYPE=image/png:https://www.unlocal.org/wp-content/uploads/2023/08/Office-Closing-August.png
END:VEVENT
BEGIN:VEVENT
DTSTART;TZID=America/New_York:20230816T140000
DTEND;TZID=America/New_York:20230816T190000
DTSTAMP:20260421T013424
CREATED:20230802T151628Z
LAST-MODIFIED:20230802T151628Z
UID:10000024-1692194400-1692212400@www.unlocal.org
SUMMARY:School Supply Drive
DESCRIPTION:Join UnLocal for back to school! We will have limited school supplies available for pick up at our office.
URL:https://www.unlocal.org/event/school-supply-drive/
LOCATION:UnLocal\, 45 West 29th Street\, Suite 203\, New York\, NY\, 10001\, United States
ATTACH;FMTTYPE=image/png:https://www.unlocal.org/wp-content/uploads/2023/08/2023-school-supply-drive.png
END:VEVENT
END:VCALENDAR