BEGIN:VCALENDAR
VERSION:2.0
PRODID:-//Unlocal - ECPv6.15.17//NONSGML v1.0//EN
CALSCALE:GREGORIAN
METHOD:PUBLISH
X-WR-CALNAME:Unlocal
X-ORIGINAL-URL:https://www.unlocal.org
X-WR-CALDESC:Events for Unlocal
REFRESH-INTERVAL;VALUE=DURATION:PT1H
X-Robots-Tag:noindex
X-PUBLISHED-TTL:PT1H
BEGIN:VTIMEZONE
TZID:America/New_York
BEGIN:DAYLIGHT
TZOFFSETFROM:-0500
TZOFFSETTO:-0400
TZNAME:EDT
DTSTART:20210314T070000
END:DAYLIGHT
BEGIN:STANDARD
TZOFFSETFROM:-0400
TZOFFSETTO:-0500
TZNAME:EST
DTSTART:20211107T060000
END:STANDARD
BEGIN:DAYLIGHT
TZOFFSETFROM:-0500
TZOFFSETTO:-0400
TZNAME:EDT
DTSTART:20220313T070000
END:DAYLIGHT
BEGIN:STANDARD
TZOFFSETFROM:-0400
TZOFFSETTO:-0500
TZNAME:EST
DTSTART:20221106T060000
END:STANDARD
BEGIN:DAYLIGHT
TZOFFSETFROM:-0500
TZOFFSETTO:-0400
TZNAME:EDT
DTSTART:20230312T070000
END:DAYLIGHT
BEGIN:STANDARD
TZOFFSETFROM:-0400
TZOFFSETTO:-0500
TZNAME:EST
DTSTART:20231105T060000
END:STANDARD
END:VTIMEZONE
BEGIN:VEVENT
DTSTART;TZID=America/New_York:20221110T173000
DTEND;TZID=America/New_York:20221110T203000
DTSTAMP:20260421T020323
CREATED:20221006T135025Z
LAST-MODIFIED:20221102T200955Z
UID:10000052-1668101400-1668112200@www.unlocal.org
SUMMARY:UnLocal Theater Circle
DESCRIPTION:The UnLocal Theater Circle is specially curated for those who need a creative space to participate in collaborative creation. The UnLocal Education and Outreach team has teamed up with A Laboratory for Actors Training (ALAT) to create space to read plays\, engage in theater practices\, and dismantle narratives using a Race\, Class\, Power\, and Privilege perspective. The UnLocal Theater Circle prioritizes undocumented folx or anyone who has lived that experience and concentrates on narratives of joy\, pleasure\, and humor. We are reinventing the ways we keep each other safe by controlling the stories we tell and uplift.
URL:https://www.unlocal.org/event/6574/2022-11-10/
LOCATION:UnLocal\, 45 West 29th Street\, Suite 203\, New York\, NY\, 10001\, United States
ATTACH;FMTTYPE=image/png:https://www.unlocal.org/wp-content/uploads/2022/10/Theater-Circle.png
END:VEVENT
BEGIN:VEVENT
DTSTART;TZID=America/New_York:20221103T173000
DTEND;TZID=America/New_York:20221103T203000
DTSTAMP:20260421T020323
CREATED:20221006T135025Z
LAST-MODIFIED:20221102T200955Z
UID:10000051-1667496600-1667507400@www.unlocal.org
SUMMARY:UnLocal Theater Circle
DESCRIPTION:The UnLocal Theater Circle is specially curated for those who need a creative space to participate in collaborative creation. The UnLocal Education and Outreach team has teamed up with A Laboratory for Actors Training (ALAT) to create space to read plays\, engage in theater practices\, and dismantle narratives using a Race\, Class\, Power\, and Privilege perspective. The UnLocal Theater Circle prioritizes undocumented folx or anyone who has lived that experience and concentrates on narratives of joy\, pleasure\, and humor. We are reinventing the ways we keep each other safe by controlling the stories we tell and uplift.
URL:https://www.unlocal.org/event/6574/2022-11-03/
LOCATION:UnLocal\, 45 West 29th Street\, Suite 203\, New York\, NY\, 10001\, United States
ATTACH;FMTTYPE=image/png:https://www.unlocal.org/wp-content/uploads/2022/10/Theater-Circle.png
END:VEVENT
BEGIN:VEVENT
DTSTART;TZID=America/New_York:20221026T160000
DTEND;TZID=America/New_York:20221026T190000
DTSTAMP:20260421T020323
CREATED:20221024T165207Z
LAST-MODIFIED:20221024T165616Z
UID:10000054-1666800000-1666810800@www.unlocal.org
SUMMARY:Community Ofrenda
DESCRIPTION:The UnLocal community are welcome to bring an offering for the community altar in honor of all lives lost at the border\, at home and in consequence of American Imperialism. Please feel free to bring family and home to share.
URL:https://www.unlocal.org/event/community-ofrenda/
LOCATION:UnLocal\, 45 West 29th Street\, Suite 203\, New York\, NY\, 10001\, United States
ATTACH;FMTTYPE=image/png:https://www.unlocal.org/wp-content/uploads/2022/10/Screen-Shot-2022-10-24-at-12.49.22-PM-e1666630231874.png
END:VEVENT
BEGIN:VEVENT
DTSTART;TZID=America/New_York:20220915T150000
DTEND;TZID=America/New_York:20220915T180000
DTSTAMP:20260421T020323
CREATED:20220915T134738Z
LAST-MODIFIED:20220915T143821Z
UID:10000050-1663254000-1663264800@www.unlocal.org
SUMMARY:September Swap
DESCRIPTION:Join us for our September Swap. All are welcome to take what they need from the swap\, no need to bring something with you. \nThe UnLocal swaps are parties where community bring all types of items in new or good condition\, in the end\, participants are able to go home with new items\, declutter their homes and save money. \nOur UnLocal closet is created out of clothing donations\, with the intention that anyone from the community who needs some clothing can come and grab some. We also have a corner for interview and court clothing.
URL:https://www.unlocal.org/event/september-swap/
LOCATION:UnLocal\, 45 West 29th Street\, Suite 203\, New York\, NY\, 10001\, United States
ATTACH;FMTTYPE=image/png:https://www.unlocal.org/wp-content/uploads/2022/09/Screen-Shot-2022-09-15-at-10.06.52-AM.png
END:VEVENT
END:VCALENDAR