BEGIN:VCALENDAR
VERSION:2.0
PRODID:-//Unlocal - ECPv6.15.17//NONSGML v1.0//EN
CALSCALE:GREGORIAN
METHOD:PUBLISH
X-ORIGINAL-URL:https://www.unlocal.org
X-WR-CALDESC:Events for Unlocal
REFRESH-INTERVAL;VALUE=DURATION:PT1H
X-Robots-Tag:noindex
X-PUBLISHED-TTL:PT1H
BEGIN:VTIMEZONE
TZID:America/New_York
BEGIN:DAYLIGHT
TZOFFSETFROM:-0500
TZOFFSETTO:-0400
TZNAME:EDT
DTSTART:20240310T070000
END:DAYLIGHT
BEGIN:STANDARD
TZOFFSETFROM:-0400
TZOFFSETTO:-0500
TZNAME:EST
DTSTART:20241103T060000
END:STANDARD
BEGIN:DAYLIGHT
TZOFFSETFROM:-0500
TZOFFSETTO:-0400
TZNAME:EDT
DTSTART:20250309T070000
END:DAYLIGHT
BEGIN:STANDARD
TZOFFSETFROM:-0400
TZOFFSETTO:-0500
TZNAME:EST
DTSTART:20251102T060000
END:STANDARD
BEGIN:DAYLIGHT
TZOFFSETFROM:-0500
TZOFFSETTO:-0400
TZNAME:EDT
DTSTART:20260308T070000
END:DAYLIGHT
BEGIN:STANDARD
TZOFFSETFROM:-0400
TZOFFSETTO:-0500
TZNAME:EST
DTSTART:20261101T060000
END:STANDARD
BEGIN:DAYLIGHT
TZOFFSETFROM:-0500
TZOFFSETTO:-0400
TZNAME:EDT
DTSTART:20270314T070000
END:DAYLIGHT
BEGIN:STANDARD
TZOFFSETFROM:-0400
TZOFFSETTO:-0500
TZNAME:EST
DTSTART:20271107T060000
END:STANDARD
END:VTIMEZONE
BEGIN:VEVENT
DTSTART;TZID=America/New_York:20251216T180000
DTEND;TZID=America/New_York:20251216T190000
DTSTAMP:20260421T200444
CREATED:20251210T191555Z
LAST-MODIFIED:20251210T191737Z
UID:10000166-1765908000-1765911600@www.unlocal.org
SUMMARY:Virutal Resume Workshop
DESCRIPTION:Join UnLocal for a Resume Building Workshop designed to help you craft a strong\, personalized resume that highlights your skills and experience. \nGet hands-on guidance and tips to stand out as a business owner or contractor-no prior experience needed!
URL:https://www.unlocal.org/event/virutal-resume-workshop/
LOCATION:Zoom
CATEGORIES:E+O
ATTACH;FMTTYPE=image/jpeg:https://www.unlocal.org/wp-content/uploads/2025/12/1-Isabella-Louis.jpg
END:VEVENT
BEGIN:VEVENT
DTSTART;TZID=America/New_York:20251217T170000
DTEND;TZID=America/New_York:20251217T183000
DTSTAMP:20260421T200444
CREATED:20251104T223420Z
LAST-MODIFIED:20251104T223420Z
UID:10000099-1765990800-1765996200@www.unlocal.org
SUMMARY:Taller - Proteje a su Comunidad
DESCRIPTION:Únase a nuestros taller informativo mensuales sobre seguridad comunitaria\, donde aprenderemos sobre nuestros derechos en lo que respecta a la interacción con las fuerzas del orden federales y los agentes de inmigración. \n¡Este también será un espacio para proporcionar recursos comunitarios y breves actualizaciones generales sobre la política de inmigración! \nEnlace de Zoom: bit.ly/unlocal-kyr-esp
URL:https://www.unlocal.org/event/taller-proteje-a-su-comunidad/2025-12-17/
LOCATION:Zoom
CATEGORIES:E+O
ATTACH;FMTTYPE=image/png:https://www.unlocal.org/wp-content/uploads/2025/11/KYR-SPAN-1.png
END:VEVENT
BEGIN:VEVENT
DTSTART;TZID=America/New_York:20260114T173000
DTEND;TZID=America/New_York:20260114T193000
DTSTAMP:20260421T200444
CREATED:20260108T210819Z
LAST-MODIFIED:20260108T210819Z
UID:10000169-1768411800-1768419000@www.unlocal.org
SUMMARY:Community Safety Workshop In the Workplace
DESCRIPTION:Join our workshops to learn your rights in relation to: \n\nFederal immigration agents\nThe workplace and immigration enforcement\nWork forms such as I-9\, W-2\, and more\n\nThis workshop will be held in collaboration with Make the Road NY \nYou can join either via zoom or in person at our office in midtown. \n  \n 
URL:https://www.unlocal.org/event/community-safety-workshop-in-the-workplace/
LOCATION:UnLocal\, 45 West 29th Street\, Suite 203\, New York\, NY\, 10001\, United States
CATEGORIES:E+O
ATTACH;FMTTYPE=image/png:https://www.unlocal.org/wp-content/uploads/2026/01/KYR-SPAN.png
END:VEVENT
BEGIN:VEVENT
DTSTART;TZID=America/New_York:20260114T173000
DTEND;TZID=America/New_York:20260114T193000
DTSTAMP:20260421T200444
CREATED:20260108T212259Z
LAST-MODIFIED:20260108T212531Z
UID:10000170-1768411800-1768419000@www.unlocal.org
SUMMARY:Protega su Comunidad en el Lugar del trabajo
DESCRIPTION:Únete a nuestro taller para aprender acerca de sus derechos en relacion con: \n\nAgentes federales de migracion\nEl lugar de trabajo y migracion\nFormularios laborales como I-9\, W-2\, y otros detalles administrativos del lugar de trabajo\n\nEste taller se llevará a cabo en colaboración con Make The Road NY \nPuedes unirte a través de Zoom o en persona en nuestra oficina en midtown
URL:https://www.unlocal.org/event/protega-su-comunidad-en-el-lugar-del-trabajo/
LOCATION:UnLocal\, 45 West 29th Street\, Suite 203\, New York\, NY\, 10001\, United States
CATEGORIES:E+O
ATTACH;FMTTYPE=image/png:https://www.unlocal.org/wp-content/uploads/2026/01/KYR-SPAN-2.png
END:VEVENT
BEGIN:VEVENT
DTSTART;TZID=America/New_York:20260303T180000
DTEND;TZID=America/New_York:20260303T190000
DTSTAMP:20260421T200444
CREATED:20260226T232402Z
LAST-MODIFIED:20260226T232402Z
UID:10000173-1772560800-1772564400@www.unlocal.org
SUMMARY:Virtual Resume Workshop
DESCRIPTION:Vin jwenn UnLocal pou yon Atelye Kreyasyon CV ki fèt pou ede w kreye yon CV pèsonalize ak solid ki mete aksan sou konpetans ak eksperyans ou. W ap jwenn konsèy ak konsèy pratik pou w ka fè yon biznis oswa yon kontraktè diferan — ou pa bezwen gen eksperyans anvan! Atelye sa a an kreyòl Ayisyen. \nMadi 3 mas\, 6:00 PM \nEnskri isit la: www.https://www.shorturl.at/brglJ
URL:https://www.unlocal.org/event/virtual-resume-workshop-2/
LOCATION:Zoom
CATEGORIES:E+O
ATTACH;FMTTYPE=image/jpeg:https://www.unlocal.org/wp-content/uploads/2026/02/2-Isabella-Louis.jpg
END:VEVENT
BEGIN:VEVENT
DTSTART;TZID=America/New_York:20260324T180000
DTEND;TZID=America/New_York:20260324T190000
DTSTAMP:20260421T200444
CREATED:20260226T225556Z
LAST-MODIFIED:20260226T232624Z
UID:10000171-1774375200-1774378800@www.unlocal.org
SUMMARY:Virtual Resume Workshop
DESCRIPTION:Join UnLocal for a Resume Building Workshop desgined to help you craft a strong\, personalized resume that highlights your skills and experience. Gets hands-on guidance and tips to stand out as a business owner or contractor– no prior experience needed! \nTuesday\, March 24th 6:00PM \nRSVP: https://www.shorturl.at/Pna7v
URL:https://www.unlocal.org/event/virtual-resume-workshop/
LOCATION:Zoom
CATEGORIES:E+O
ATTACH;FMTTYPE=image/jpeg:https://www.unlocal.org/wp-content/uploads/2026/02/Resume-Building-Workshop-Outreach-5-Isabella-Louis.jpg
END:VEVENT
END:VCALENDAR