BEGIN:VCALENDAR
VERSION:2.0
PRODID:-//Unlocal - ECPv6.15.17//NONSGML v1.0//EN
CALSCALE:GREGORIAN
METHOD:PUBLISH
X-ORIGINAL-URL:https://www.unlocal.org
X-WR-CALDESC:Events for Unlocal
REFRESH-INTERVAL;VALUE=DURATION:PT1H
X-Robots-Tag:noindex
X-PUBLISHED-TTL:PT1H
BEGIN:VTIMEZONE
TZID:America/New_York
BEGIN:DAYLIGHT
TZOFFSETFROM:-0500
TZOFFSETTO:-0400
TZNAME:EDT
DTSTART:20240310T070000
END:DAYLIGHT
BEGIN:STANDARD
TZOFFSETFROM:-0400
TZOFFSETTO:-0500
TZNAME:EST
DTSTART:20241103T060000
END:STANDARD
BEGIN:DAYLIGHT
TZOFFSETFROM:-0500
TZOFFSETTO:-0400
TZNAME:EDT
DTSTART:20250309T070000
END:DAYLIGHT
BEGIN:STANDARD
TZOFFSETFROM:-0400
TZOFFSETTO:-0500
TZNAME:EST
DTSTART:20251102T060000
END:STANDARD
BEGIN:DAYLIGHT
TZOFFSETFROM:-0500
TZOFFSETTO:-0400
TZNAME:EDT
DTSTART:20260308T070000
END:DAYLIGHT
BEGIN:STANDARD
TZOFFSETFROM:-0400
TZOFFSETTO:-0500
TZNAME:EST
DTSTART:20261101T060000
END:STANDARD
END:VTIMEZONE
BEGIN:VEVENT
DTSTART;TZID=America/New_York:20250113T150000
DTEND;TZID=America/New_York:20250113T160000
DTSTAMP:20260421T155437
CREATED:20250115T033756Z
LAST-MODIFIED:20250115T033956Z
UID:10000090-1736780400-1736784000@www.unlocal.org
SUMMARY:Partner Call
DESCRIPTION:UnLocal warmly invites you to participate in this upcoming partner call. We will be joined by UnLocal’s Education and Outreach team\, to provide policy and legal updates. \nIf you have any topics or questions that you would like to see discussed\, please reach out to outreach@unlocal.org and rsvp. \n \n 
URL:https://www.unlocal.org/event/partner-call/2025-01-13/
CATEGORIES:E+O
ATTACH;FMTTYPE=image/png:https://www.unlocal.org/wp-content/uploads/2025/01/2-1.png
LOCATION:https://us02web.zoom.us/j/84078005379?pwd=ppE8n2Enveo2GUWcYD5peMrWRAtb4l.1
END:VEVENT
END:VCALENDAR