BEGIN:VCALENDAR
VERSION:2.0
PRODID:-//Unlocal - ECPv6.15.17//NONSGML v1.0//EN
CALSCALE:GREGORIAN
METHOD:PUBLISH
X-ORIGINAL-URL:https://www.unlocal.org
X-WR-CALDESC:Events for Unlocal
REFRESH-INTERVAL;VALUE=DURATION:PT1H
X-Robots-Tag:noindex
X-PUBLISHED-TTL:PT1H
BEGIN:VTIMEZONE
TZID:America/New_York
BEGIN:DAYLIGHT
TZOFFSETFROM:-0500
TZOFFSETTO:-0400
TZNAME:EDT
DTSTART:20220313T070000
END:DAYLIGHT
BEGIN:STANDARD
TZOFFSETFROM:-0400
TZOFFSETTO:-0500
TZNAME:EST
DTSTART:20221106T060000
END:STANDARD
BEGIN:DAYLIGHT
TZOFFSETFROM:-0500
TZOFFSETTO:-0400
TZNAME:EDT
DTSTART:20230312T070000
END:DAYLIGHT
BEGIN:STANDARD
TZOFFSETFROM:-0400
TZOFFSETTO:-0500
TZNAME:EST
DTSTART:20231105T060000
END:STANDARD
BEGIN:DAYLIGHT
TZOFFSETFROM:-0500
TZOFFSETTO:-0400
TZNAME:EDT
DTSTART:20240310T070000
END:DAYLIGHT
BEGIN:STANDARD
TZOFFSETFROM:-0400
TZOFFSETTO:-0500
TZNAME:EST
DTSTART:20241103T060000
END:STANDARD
END:VTIMEZONE
BEGIN:VEVENT
DTSTART;TZID=America/New_York:20231115T150000
DTEND;TZID=America/New_York:20231115T190000
DTSTAMP:20260422T175616
CREATED:20231018T230956Z
LAST-MODIFIED:20240111T211745Z
UID:10000020-1700060400-1700074800@www.unlocal.org
SUMMARY:UnLocal Coat Drive
DESCRIPTION:  \n  \n  \n  \n  \n  \n  \n  \n  \n  \n  \n  \n  \n  \nUnLocal is hosting a Community Coat Drive for all community members and clients. \nThe event will take place on November 15th\, 2023 from 3:00 – 7:00 p.m. at the UnLocal office\, located at45 W. 29th St. Suite 203 New York\, NY 10001.\n\nTo attend this event\, please submit this registration form by November 6th\, 2023. Please note that RSVPing does not guarantee a coat in the size requested.
URL:https://www.unlocal.org/event/unlocal-coat-drive/
LOCATION:UnLocal\, 45 West 29th Street\, Suite 203\, New York\, NY\, 10001\, United States
CATEGORIES:E+O
ATTACH;FMTTYPE=image/png:https://www.unlocal.org/wp-content/uploads/2023/10/Coat_Drive_ENG.png
END:VEVENT
END:VCALENDAR