BEGIN:VCALENDAR
VERSION:2.0
PRODID:-//Unlocal - ECPv6.15.17//NONSGML v1.0//EN
CALSCALE:GREGORIAN
METHOD:PUBLISH
X-WR-CALNAME:Unlocal
X-ORIGINAL-URL:https://www.unlocal.org
X-WR-CALDESC:Events for Unlocal
REFRESH-INTERVAL;VALUE=DURATION:PT1H
X-Robots-Tag:noindex
X-PUBLISHED-TTL:PT1H
BEGIN:VTIMEZONE
TZID:America/New_York
BEGIN:DAYLIGHT
TZOFFSETFROM:-0500
TZOFFSETTO:-0400
TZNAME:EDT
DTSTART:20240310T070000
END:DAYLIGHT
BEGIN:STANDARD
TZOFFSETFROM:-0400
TZOFFSETTO:-0500
TZNAME:EST
DTSTART:20241103T060000
END:STANDARD
BEGIN:DAYLIGHT
TZOFFSETFROM:-0500
TZOFFSETTO:-0400
TZNAME:EDT
DTSTART:20250309T070000
END:DAYLIGHT
BEGIN:STANDARD
TZOFFSETFROM:-0400
TZOFFSETTO:-0500
TZNAME:EST
DTSTART:20251102T060000
END:STANDARD
BEGIN:DAYLIGHT
TZOFFSETFROM:-0500
TZOFFSETTO:-0400
TZNAME:EDT
DTSTART:20260308T070000
END:DAYLIGHT
BEGIN:STANDARD
TZOFFSETFROM:-0400
TZOFFSETTO:-0500
TZNAME:EST
DTSTART:20261101T060000
END:STANDARD
END:VTIMEZONE
BEGIN:VEVENT
DTSTART;TZID=America/New_York:20250210T150000
DTEND;TZID=America/New_York:20250210T160000
DTSTAMP:20260421T132317
CREATED:20250115T033756Z
LAST-MODIFIED:20250115T033956Z
UID:10000091-1739199600-1739203200@www.unlocal.org
SUMMARY:Partner Call
DESCRIPTION:UnLocal warmly invites you to participate in this upcoming partner call. We will be joined by UnLocal’s Education and Outreach team\, to provide policy and legal updates. \nIf you have any topics or questions that you would like to see discussed\, please reach out to outreach@unlocal.org and rsvp. \n \n 
URL:https://www.unlocal.org/event/partner-call/2025-02-10/
CATEGORIES:E+O
ATTACH;FMTTYPE=image/png:https://www.unlocal.org/wp-content/uploads/2025/01/2-1.png
LOCATION:https://us02web.zoom.us/j/84078005379?pwd=ppE8n2Enveo2GUWcYD5peMrWRAtb4l.1
END:VEVENT
BEGIN:VEVENT
DTSTART;TZID=America/New_York:20250215T120000
DTEND;TZID=America/New_York:20250215T133000
DTSTAMP:20260421T132317
CREATED:20250115T030101Z
LAST-MODIFIED:20250115T030101Z
UID:10000089-1739620800-1739626200@www.unlocal.org
SUMMARY:Clase de Arte Libre en UnLocal • Drop-in Art Making
DESCRIPTION:Drop-in Art Making\nThis workshop is open to all ages. Seating is available on a first-come\, first-served basis. Free \nJoin UnLocal and  Art Educators from the Whitney Museum of American Art for a drop-in art making workshop. Participants will participate in conversations to practice their English skills in a bilingual setting. \nWhen? Saturday\, January 18\, 12pm-1:30pm and Saturday\, February 15\, 12pm-1:30pm \nWhere? UnLocal Inc. 45 W 29th Street\, Suite 203 New York\, NY 10001 \n \n \nUnLocal\, Inc. is a community-centered non-profit organization that provides direct immigration legal representation and community education to New York City’s undocumented immigrant communities. Our Education and Outreach team believe that education is a tool for advocacy and strive to empower immigrant communities by connecting them with key resources. We prioritize mutual education as a learning tool to collaborate with our partners and community members to create accessible presentations\, webinars\, clinics\, and events. We intend to destigmatize any misconceptions of immigration law and the socio-political narrative that accompanies it. \nThe Education Department at the Whitney Museum of American Art is dedicated to engaging in that practice\, and to promoting diverse voices within American art and our community. Focusing especially on those who have been historically marginalized\, we place the learner at the center of our programs and resources.
URL:https://www.unlocal.org/event/clase-de-arte-libre-en-unlocal-drop-in-art-making/2025-02-15/
LOCATION:UnLocal\, 45 West 29th Street\, Suite 203\, New York\, NY\, 10001\, United States
CATEGORIES:E+O
ATTACH;FMTTYPE=image/png:https://www.unlocal.org/wp-content/uploads/2025/01/2.png
END:VEVENT
END:VCALENDAR