BEGIN:VCALENDAR
VERSION:2.0
PRODID:-//Unlocal - ECPv6.15.17//NONSGML v1.0//EN
CALSCALE:GREGORIAN
METHOD:PUBLISH
X-WR-CALNAME:Unlocal
X-ORIGINAL-URL:https://www.unlocal.org
X-WR-CALDESC:Events for Unlocal
REFRESH-INTERVAL;VALUE=DURATION:PT1H
X-Robots-Tag:noindex
X-PUBLISHED-TTL:PT1H
BEGIN:VTIMEZONE
TZID:America/New_York
BEGIN:DAYLIGHT
TZOFFSETFROM:-0500
TZOFFSETTO:-0400
TZNAME:EDT
DTSTART:20250309T070000
END:DAYLIGHT
BEGIN:STANDARD
TZOFFSETFROM:-0400
TZOFFSETTO:-0500
TZNAME:EST
DTSTART:20251102T060000
END:STANDARD
BEGIN:DAYLIGHT
TZOFFSETFROM:-0500
TZOFFSETTO:-0400
TZNAME:EDT
DTSTART:20260308T070000
END:DAYLIGHT
BEGIN:STANDARD
TZOFFSETFROM:-0400
TZOFFSETTO:-0500
TZNAME:EST
DTSTART:20261101T060000
END:STANDARD
BEGIN:DAYLIGHT
TZOFFSETFROM:-0500
TZOFFSETTO:-0400
TZNAME:EDT
DTSTART:20270314T070000
END:DAYLIGHT
BEGIN:STANDARD
TZOFFSETFROM:-0400
TZOFFSETTO:-0500
TZNAME:EST
DTSTART:20271107T060000
END:STANDARD
END:VTIMEZONE
BEGIN:VEVENT
DTSTART;TZID=America/New_York:20260120T180000
DTEND;TZID=America/New_York:20260120T190000
DTSTAMP:20260420T130846
CREATED:20260106T171428Z
LAST-MODIFIED:20260106T171428Z
UID:10000167-1768932000-1768935600@www.unlocal.org
SUMMARY:Taller Virtual de Creación de Curriculum
DESCRIPTION:Únete a UnLocal en un taller para crear un currículum\, diseñado para ayudarte a crear uno sólido y personalizado que destaque tus habilidades y experiencia. Recibe orientación práctica y consejos para destacar como empresario o contratista. ¡Sin necesidad de experiencia previa! \n20 de Enero a las 18:00
URL:https://www.unlocal.org/event/taller-virtual-de-creacion-de-curriculum/
LOCATION:Zoom
ATTACH;FMTTYPE=image/jpeg:https://www.unlocal.org/wp-content/uploads/2026/01/Resume-Building-Workshop-Outreach-Isabella-Louis.jpeg
END:VEVENT
END:VCALENDAR