BEGIN:VCALENDAR
VERSION:2.0
PRODID:-//Unlocal - ECPv6.15.17//NONSGML v1.0//EN
CALSCALE:GREGORIAN
METHOD:PUBLISH
X-WR-CALNAME:Unlocal
X-ORIGINAL-URL:https://www.unlocal.org
X-WR-CALDESC:Events for Unlocal
REFRESH-INTERVAL;VALUE=DURATION:PT1H
X-Robots-Tag:noindex
X-PUBLISHED-TTL:PT1H
BEGIN:VTIMEZONE
TZID:America/New_York
BEGIN:DAYLIGHT
TZOFFSETFROM:-0500
TZOFFSETTO:-0400
TZNAME:EDT
DTSTART:20240310T070000
END:DAYLIGHT
BEGIN:STANDARD
TZOFFSETFROM:-0400
TZOFFSETTO:-0500
TZNAME:EST
DTSTART:20241103T060000
END:STANDARD
BEGIN:DAYLIGHT
TZOFFSETFROM:-0500
TZOFFSETTO:-0400
TZNAME:EDT
DTSTART:20250309T070000
END:DAYLIGHT
BEGIN:STANDARD
TZOFFSETFROM:-0400
TZOFFSETTO:-0500
TZNAME:EST
DTSTART:20251102T060000
END:STANDARD
BEGIN:DAYLIGHT
TZOFFSETFROM:-0500
TZOFFSETTO:-0400
TZNAME:EDT
DTSTART:20260308T070000
END:DAYLIGHT
BEGIN:STANDARD
TZOFFSETFROM:-0400
TZOFFSETTO:-0500
TZNAME:EST
DTSTART:20261101T060000
END:STANDARD
END:VTIMEZONE
BEGIN:VEVENT
DTSTART;TZID=America/New_York:20250219T170000
DTEND;TZID=America/New_York:20250219T183000
DTSTAMP:20260421T045617
CREATED:20250212T163237Z
LAST-MODIFIED:20250212T163842Z
UID:10000092-1739984400-1739989800@www.unlocal.org
SUMMARY:Resume Review Workshop - Part 1 -
DESCRIPTION:Thank you for your interest in attending Part 1 of UnLocal’s Resume Review Workshop! Are you looking to edit your existing resume for a new opportunity? Hoping to create your first resume? Join us for our third Bilingual Resume Review Workshop hosted by Shaina Vallejos Espinoza. \nThis presentation will take place on Wednesday\, February 19th at 5:00 p.m. and will be facilitated in both Spanish and English. At the end of the presentation\, participants will have the opportunity to sign up for individual resume assistance on later dates. \nParticipants are welcomed to join us in-person at the UnLocal office is located at 45 W. 29th Street Suite 203 10001. Click here for map directions. \nCan’t come into our office? Our presentation will also take place on zoom! Click here to access the link. Zoom participants should join the presentation at 5:25 p.m. \nParticipants who attend both sessions will receive a $50 gift card for their participation.
URL:https://www.unlocal.org/event/resume-review-workshop-part-1/
LOCATION:UnLocal\, 45 West 29th Street\, Suite 203\, New York\, NY\, 10001\, United States
ATTACH;FMTTYPE=image/png:https://www.unlocal.org/wp-content/uploads/2025/02/Span-CCS-resume2-2025.png
END:VEVENT
END:VCALENDAR