BEGIN:VCALENDAR
VERSION:2.0
PRODID:-//Unlocal - ECPv6.15.17//NONSGML v1.0//EN
CALSCALE:GREGORIAN
METHOD:PUBLISH
X-ORIGINAL-URL:https://www.unlocal.org
X-WR-CALDESC:Events for Unlocal
REFRESH-INTERVAL;VALUE=DURATION:PT1H
X-Robots-Tag:noindex
X-PUBLISHED-TTL:PT1H
BEGIN:VTIMEZONE
TZID:America/New_York
BEGIN:DAYLIGHT
TZOFFSETFROM:-0500
TZOFFSETTO:-0400
TZNAME:EDT
DTSTART:20230312T070000
END:DAYLIGHT
BEGIN:STANDARD
TZOFFSETFROM:-0400
TZOFFSETTO:-0500
TZNAME:EST
DTSTART:20231105T060000
END:STANDARD
BEGIN:DAYLIGHT
TZOFFSETFROM:-0500
TZOFFSETTO:-0400
TZNAME:EDT
DTSTART:20240310T070000
END:DAYLIGHT
BEGIN:STANDARD
TZOFFSETFROM:-0400
TZOFFSETTO:-0500
TZNAME:EST
DTSTART:20241103T060000
END:STANDARD
BEGIN:DAYLIGHT
TZOFFSETFROM:-0500
TZOFFSETTO:-0400
TZNAME:EDT
DTSTART:20250309T070000
END:DAYLIGHT
BEGIN:STANDARD
TZOFFSETFROM:-0400
TZOFFSETTO:-0500
TZNAME:EST
DTSTART:20251102T060000
END:STANDARD
BEGIN:DAYLIGHT
TZOFFSETFROM:-0500
TZOFFSETTO:-0400
TZNAME:EDT
DTSTART:20260308T070000
END:DAYLIGHT
BEGIN:STANDARD
TZOFFSETFROM:-0400
TZOFFSETTO:-0500
TZNAME:EST
DTSTART:20261101T060000
END:STANDARD
END:VTIMEZONE
BEGIN:VEVENT
DTSTART;VALUE=DATE:20241220
DTEND;VALUE=DATE:20250102
DTSTAMP:20260421T062134
CREATED:20241209T204231Z
LAST-MODIFIED:20241216T212301Z
UID:10000087-1734652800-1735775999@www.unlocal.org
SUMMARY:Office Closed
DESCRIPTION:INTAKE HOTLINE:\n \nAt this time we are at capacity and are unable to represent cases. We may be able to answer questions and refer you out to other resources. \nIf you are in need of legal assistance\, please fill out this referral form. The information requested better allows us to see if we are able to assist you. This is the fastest way to receive a response from us. \nIf you choose to call our hotline number (646) 233-0967 you can only  leave a detailed message with your name\, number\, and what assistance you are looking for. \nUnfortunately due to the high volume of calls we cannot always return your message. We will only get back to you if we are able to assist ourselves or provide other resources to where you may be able to find assistance. \nIf you are looking for a general consultation\, we may be able to schedule 30 minute free consultations with someone from our Legal team. The wait time for a consultation is 8-10 weeks. The best way to request one is by filling out the same referral form and noting any particular questions you may have.
URL:https://www.unlocal.org/event/office-closed-2/
LOCATION:UnLocal\, 45 West 29th Street\, Suite 203\, New York\, NY\, 10001\, United States
CATEGORIES:Intake
ATTACH;FMTTYPE=image/png:https://www.unlocal.org/wp-content/uploads/2024/12/Office-closed-2024-25.png
END:VEVENT
END:VCALENDAR