BEGIN:VCALENDAR
VERSION:2.0
PRODID:-//Unlocal - ECPv6.15.17//NONSGML v1.0//EN
CALSCALE:GREGORIAN
METHOD:PUBLISH
X-ORIGINAL-URL:https://www.unlocal.org
X-WR-CALDESC:Events for Unlocal
REFRESH-INTERVAL;VALUE=DURATION:PT1H
X-Robots-Tag:noindex
X-PUBLISHED-TTL:PT1H
BEGIN:VTIMEZONE
TZID:America/New_York
BEGIN:DAYLIGHT
TZOFFSETFROM:-0500
TZOFFSETTO:-0400
TZNAME:EDT
DTSTART:20230312T070000
END:DAYLIGHT
BEGIN:STANDARD
TZOFFSETFROM:-0400
TZOFFSETTO:-0500
TZNAME:EST
DTSTART:20231105T060000
END:STANDARD
BEGIN:DAYLIGHT
TZOFFSETFROM:-0500
TZOFFSETTO:-0400
TZNAME:EDT
DTSTART:20240310T070000
END:DAYLIGHT
BEGIN:STANDARD
TZOFFSETFROM:-0400
TZOFFSETTO:-0500
TZNAME:EST
DTSTART:20241103T060000
END:STANDARD
BEGIN:DAYLIGHT
TZOFFSETFROM:-0500
TZOFFSETTO:-0400
TZNAME:EDT
DTSTART:20250309T070000
END:DAYLIGHT
BEGIN:STANDARD
TZOFFSETFROM:-0400
TZOFFSETTO:-0500
TZNAME:EST
DTSTART:20251102T060000
END:STANDARD
END:VTIMEZONE
BEGIN:VEVENT
DTSTART;TZID=America/New_York:20240918T163000
DTEND;TZID=America/New_York:20240918T180000
DTSTAMP:20260421T104204
CREATED:20240723T174008Z
LAST-MODIFIED:20241126T230902Z
UID:10000071-1726677000-1726682400@www.unlocal.org
SUMMARY:Unlocal Running Day
DESCRIPTION:Cancelled 
URL:https://www.unlocal.org/event/unlocal-running-day-2/2024-09-18/
LOCATION:UnLocal\, 45 West 29th Street\, Suite 203\, New York\, NY\, 10001\, United States
ATTACH;FMTTYPE=image/png:https://www.unlocal.org/wp-content/uploads/2024/07/Marathon-running-day.png
END:VEVENT
END:VCALENDAR